BEGIN:VCALENDAR
VERSION:2.0
PRODID:-//Bleeding Disorders Foundation of Florida - ECPv6.15.20//NONSGML v1.0//EN
CALSCALE:GREGORIAN
METHOD:PUBLISH
X-ORIGINAL-URL:https://bleedingdisordersfl.org
X-WR-CALDESC:Events for Bleeding Disorders Foundation of Florida
REFRESH-INTERVAL;VALUE=DURATION:PT1H
X-Robots-Tag:noindex
X-PUBLISHED-TTL:PT1H
BEGIN:VTIMEZONE
TZID:America/New_York
BEGIN:DAYLIGHT
TZOFFSETFROM:-0500
TZOFFSETTO:-0400
TZNAME:EDT
DTSTART:20240310T070000
END:DAYLIGHT
BEGIN:STANDARD
TZOFFSETFROM:-0400
TZOFFSETTO:-0500
TZNAME:EST
DTSTART:20241103T060000
END:STANDARD
BEGIN:DAYLIGHT
TZOFFSETFROM:-0500
TZOFFSETTO:-0400
TZNAME:EDT
DTSTART:20250309T070000
END:DAYLIGHT
BEGIN:STANDARD
TZOFFSETFROM:-0400
TZOFFSETTO:-0500
TZNAME:EST
DTSTART:20251102T060000
END:STANDARD
BEGIN:DAYLIGHT
TZOFFSETFROM:-0500
TZOFFSETTO:-0400
TZNAME:EDT
DTSTART:20260308T070000
END:DAYLIGHT
BEGIN:STANDARD
TZOFFSETFROM:-0400
TZOFFSETTO:-0500
TZNAME:EST
DTSTART:20261101T060000
END:STANDARD
END:VTIMEZONE
BEGIN:VEVENT
DTSTART;TZID=America/New_York:20250711T103000
DTEND;TZID=America/New_York:20250711T130000
DTSTAMP:20260419T085506
CREATED:20250604T181243Z
LAST-MODIFIED:20250604T181243Z
UID:14409-1752229800-1752238800@bleedingdisordersfl.org
SUMMARY:Teen/Youth Retreat
DESCRIPTION:Join your community for a day of fun\, friendship\, and fresh vibes!
URL:https://bleedingdisordersfl.org/event/teen-youth-retreat-2/
LOCATION:Loews Royal Pacific\, 6300 Hollywood Way\, Orlando\, FL\, 32819\, United States
END:VEVENT
BEGIN:VEVENT
DTSTART;TZID=America/New_York:20250715T120000
DTEND;TZID=America/New_York:20250719T140000
DTSTAMP:20260419T085506
CREATED:20250320T151906Z
LAST-MODIFIED:20250320T151906Z
UID:14093-1752580800-1752933600@bleedingdisordersfl.org
SUMMARY:Camp Spirit
DESCRIPTION:CAMP SPIRIT\, WHERE THE SUMMER FUN BEGINS!
URL:https://bleedingdisordersfl.org/event/camp-spirit-4/
LOCATION:Camp Boggy Creek\, 30500 Brantley Branch Rd\,\, Eustis\, FL\, 32736\, United States
END:VEVENT
END:VCALENDAR