BEGIN:VCALENDAR
VERSION:2.0
PRODID:-//Bleeding Disorders Foundation of Florida - ECPv6.15.20//NONSGML v1.0//EN
CALSCALE:GREGORIAN
METHOD:PUBLISH
X-ORIGINAL-URL:https://bleedingdisordersfl.org
X-WR-CALDESC:Events for Bleeding Disorders Foundation of Florida
REFRESH-INTERVAL;VALUE=DURATION:PT1H
X-Robots-Tag:noindex
X-PUBLISHED-TTL:PT1H
BEGIN:VTIMEZONE
TZID:America/New_York
BEGIN:DAYLIGHT
TZOFFSETFROM:-0500
TZOFFSETTO:-0400
TZNAME:EDT
DTSTART:20240310T070000
END:DAYLIGHT
BEGIN:STANDARD
TZOFFSETFROM:-0400
TZOFFSETTO:-0500
TZNAME:EST
DTSTART:20241103T060000
END:STANDARD
BEGIN:DAYLIGHT
TZOFFSETFROM:-0500
TZOFFSETTO:-0400
TZNAME:EDT
DTSTART:20250309T070000
END:DAYLIGHT
BEGIN:STANDARD
TZOFFSETFROM:-0400
TZOFFSETTO:-0500
TZNAME:EST
DTSTART:20251102T060000
END:STANDARD
BEGIN:DAYLIGHT
TZOFFSETFROM:-0500
TZOFFSETTO:-0400
TZNAME:EDT
DTSTART:20260308T070000
END:DAYLIGHT
BEGIN:STANDARD
TZOFFSETFROM:-0400
TZOFFSETTO:-0500
TZNAME:EST
DTSTART:20261101T060000
END:STANDARD
END:VTIMEZONE
BEGIN:VEVENT
DTSTART;TZID=America/New_York:20250407T103000
DTEND;TZID=America/New_York:20250407T170000
DTSTAMP:20260419T135351
CREATED:20250320T143937Z
LAST-MODIFIED:20250320T143937Z
UID:14089-1744021800-1744045200@bleedingdisordersfl.org
SUMMARY:29th Annual Golf Tournament
DESCRIPTION:29th Annual Flight for Tomorrow Invitational Golf Tournament\n  \n\n\n\n\n\nMONDAY\, APRIL 7\, 2025\n\n\n\n\n\n\n\n\n\n\nArdea Country Club\n1055 East Lake\nWoodlands Pkwy\nOldsmar\, FL 34677
URL:https://bleedingdisordersfl.org/event/29th-annual-golf-tournament/
LOCATION:Ardea Country Club\, 1055 E Lake Woodlands Pkwy\, Oldsmar\, FL\, 34677\, United States
END:VEVENT
BEGIN:VEVENT
DTSTART;TZID=America/New_York:20250419T140000
DTEND;TZID=America/New_York:20250419T163000
DTSTAMP:20260419T135351
CREATED:20241111T194802Z
LAST-MODIFIED:20250320T151206Z
UID:13534-1745071200-1745080200@bleedingdisordersfl.org
SUMMARY:14th Annual Gator Clot Trot 5K/Fun Walk & Easter Egg Hunt
DESCRIPTION:Hop with us to the 14th Annual Gator Clot Trot 5K/Fun Walk & Easter Egg Hunt!
URL:https://bleedingdisordersfl.org/event/14th-annual-gator-clot-trot-5k-fun-walk/
LOCATION:Depot Park\, 874 SE 4th St\,\, Gainesville\, FL\, 32610\, United States
END:VEVENT
END:VCALENDAR