BEGIN:VCALENDAR
VERSION:2.0
PRODID:-//Bleeding Disorders Foundation of Florida - ECPv6.15.20//NONSGML v1.0//EN
CALSCALE:GREGORIAN
METHOD:PUBLISH
X-WR-CALNAME:Bleeding Disorders Foundation of Florida
X-ORIGINAL-URL:https://bleedingdisordersfl.org
X-WR-CALDESC:Events for Bleeding Disorders Foundation of Florida
REFRESH-INTERVAL;VALUE=DURATION:PT1H
X-Robots-Tag:noindex
X-PUBLISHED-TTL:PT1H
BEGIN:VTIMEZONE
TZID:America/New_York
BEGIN:DAYLIGHT
TZOFFSETFROM:-0500
TZOFFSETTO:-0400
TZNAME:EDT
DTSTART:20240310T070000
END:DAYLIGHT
BEGIN:STANDARD
TZOFFSETFROM:-0400
TZOFFSETTO:-0500
TZNAME:EST
DTSTART:20241103T060000
END:STANDARD
BEGIN:DAYLIGHT
TZOFFSETFROM:-0500
TZOFFSETTO:-0400
TZNAME:EDT
DTSTART:20250309T070000
END:DAYLIGHT
BEGIN:STANDARD
TZOFFSETFROM:-0400
TZOFFSETTO:-0500
TZNAME:EST
DTSTART:20251102T060000
END:STANDARD
BEGIN:DAYLIGHT
TZOFFSETFROM:-0500
TZOFFSETTO:-0400
TZNAME:EDT
DTSTART:20260308T070000
END:DAYLIGHT
BEGIN:STANDARD
TZOFFSETFROM:-0400
TZOFFSETTO:-0500
TZNAME:EST
DTSTART:20261101T060000
END:STANDARD
END:VTIMEZONE
BEGIN:VEVENT
DTSTART;TZID=America/New_York:20250206T183000
DTEND;TZID=America/New_York:20250206T203000
DTSTAMP:20260419T170926
CREATED:20250204T195052Z
LAST-MODIFIED:20250204T195052Z
UID:13932-1738866600-1738873800@bleedingdisordersfl.org
SUMMARY:Orlando Patient Dinner Program: The Whole Tooth
DESCRIPTION:JOIN US FOR AN EDUCATIONAL FAMILY DINNER \n\n\n\n\n\n\n\n\n\n\n\n\n\n\n\n\nThe Whole Tooth: Understanding the Importance of Oral Health \n\n\n\n\n\n\n\n\n\n\n\n\n\n\n\n\nPresented by \nAlexandra Soto \nCommunity Education Specialist \nThursday\, February 6\, 2025 \n6:30 pm \nSeasons 52 \n7700 Sand Lake Road \nOrlando\, FL 32819 \nRSVP BY MONDAY\, FEBRUARY 3\, 2025 \ninfo@bleedingdisordersfl.org or 800-293-6527
URL:https://bleedingdisordersfl.org/event/orlando-patient-dinner-program-the-whole-tooth/
LOCATION:FL
END:VEVENT
BEGIN:VEVENT
DTSTART;TZID=America/New_York:20250220T180000
DTEND;TZID=America/New_York:20250220T203000
DTSTAMP:20260419T170926
CREATED:20250204T202249Z
LAST-MODIFIED:20250204T202313Z
UID:13935-1740074400-1740083400@bleedingdisordersfl.org
SUMMARY:Tampa Patient Dinner Program: Enhancing Awareness
DESCRIPTION:Join us for an educational dinner program! \nEnhancing Awareness: \nBleeding Disorders Education \nfeaturing speakers \nDr. Cockrell and Dr. Soto \n& \nExperienced Patients sharing their story \n\n\n\n\n\n\n\n\n\n\n\n\n\n\n\n\nThursday\, February 20\, 2025 \n6:00PM \nThe Capital Grille \n2223 N Westshore Blvd. \nSuite b228 \nTampa\, FL 33608 \nThis program will be presented in both English and Spanish \nEste programa se presentará tanto en inglés como en español \n\n\n\n\n\n\n\n\n\n\n\n\n\n\n\n\nPlease RSVP by Monday\, February 17\, 2025 \ninfo@bleedingdisordersfl.org or 407-629-0000
URL:https://bleedingdisordersfl.org/event/tampa-dinner-program-enhancing-awareness/
LOCATION:FL
END:VEVENT
BEGIN:VEVENT
DTSTART;TZID=America/New_York:20250223T160000
DTEND;TZID=America/New_York:20250223T180000
DTSTAMP:20260419T170926
CREATED:20250204T215552Z
LAST-MODIFIED:20250204T215552Z
UID:13943-1740326400-1740333600@bleedingdisordersfl.org
SUMMARY:Patient Program: Orlando Magic Game
DESCRIPTION:Join the BDFF for a fun family dinner program! \nPushing Through Life Challenges \nPresented by \nSeth Rojhani
URL:https://bleedingdisordersfl.org/event/patient-program-orlando-magic-game/
LOCATION:Kia Center\, 400 West Church Street #200\, Orlando\, FL\, 32801\, United States
END:VEVENT
END:VCALENDAR