BEGIN:VCALENDAR
VERSION:2.0
PRODID:-//Bleeding Disorders Foundation of Florida - ECPv6.15.20//NONSGML v1.0//EN
CALSCALE:GREGORIAN
METHOD:PUBLISH
X-ORIGINAL-URL:https://bleedingdisordersfl.org
X-WR-CALDESC:Events for Bleeding Disorders Foundation of Florida
REFRESH-INTERVAL;VALUE=DURATION:PT1H
X-Robots-Tag:noindex
X-PUBLISHED-TTL:PT1H
BEGIN:VTIMEZONE
TZID:America/New_York
BEGIN:DAYLIGHT
TZOFFSETFROM:-0500
TZOFFSETTO:-0400
TZNAME:EDT
DTSTART:20230312T070000
END:DAYLIGHT
BEGIN:STANDARD
TZOFFSETFROM:-0400
TZOFFSETTO:-0500
TZNAME:EST
DTSTART:20231105T060000
END:STANDARD
BEGIN:DAYLIGHT
TZOFFSETFROM:-0500
TZOFFSETTO:-0400
TZNAME:EDT
DTSTART:20240310T070000
END:DAYLIGHT
BEGIN:STANDARD
TZOFFSETFROM:-0400
TZOFFSETTO:-0500
TZNAME:EST
DTSTART:20241103T060000
END:STANDARD
BEGIN:DAYLIGHT
TZOFFSETFROM:-0500
TZOFFSETTO:-0400
TZNAME:EDT
DTSTART:20250309T070000
END:DAYLIGHT
BEGIN:STANDARD
TZOFFSETFROM:-0400
TZOFFSETTO:-0500
TZNAME:EST
DTSTART:20251102T060000
END:STANDARD
END:VTIMEZONE
BEGIN:VEVENT
DTSTART;TZID=America/New_York:20241010T180000
DTEND;TZID=America/New_York:20241010T203000
DTSTAMP:20260420T020714
CREATED:20240919T183936Z
LAST-MODIFIED:20240919T183936Z
UID:13302-1728583200-1728592200@bleedingdisordersfl.org
SUMMARY:Tampa Dinner Program
DESCRIPTION:Dine with us and discover how to navigate the world of bleeding disorders.
URL:https://bleedingdisordersfl.org/event/tampa-dinner-program/
LOCATION:Fleming’s Steakhouse and Seafood\, 4342 W Boy Scout Blvd.\, Tampa\, FL\, 33607\, United States
CATEGORIES:Fun Stuff,Programs
END:VEVENT
BEGIN:VEVENT
DTSTART;TZID=America/New_York:20241018T170000
DTEND;TZID=America/New_York:20241020T120000
DTSTAMP:20260420T020714
CREATED:20240819T185737Z
LAST-MODIFIED:20240819T185737Z
UID:13225-1729270800-1729425600@bleedingdisordersfl.org
SUMMARY:Family Retreat Weekend
DESCRIPTION:Family Retreat Weekend is the perfect way for families to get familiar with Camp Spirit. The whole family is invited to spend a weekend at Camp Spirit so that everyone in the family can get comfortable with all of the fun activities available at Camp Spirit. This way\, when it’s time for kids to go to Camp Spirit in the summer\, everyone feels comfortable and is looking forward to it! SPACE IS LIMITED.
URL:https://bleedingdisordersfl.org/event/family-retreat-weekend-3/
LOCATION:Camp Boggy Creek\, 30500 Brantley Branch Road\, Eustis\, FL\, 32736\, United States
END:VEVENT
BEGIN:VEVENT
DTSTART;TZID=America/New_York:20241021T103000
DTEND;TZID=America/New_York:20241021T180000
DTSTAMP:20260420T020714
CREATED:20240819T185153Z
LAST-MODIFIED:20240819T185153Z
UID:13223-1729506600-1729533600@bleedingdisordersfl.org
SUMMARY:28th Annual Flight for Tomorrow Invitational Golf Tournament
DESCRIPTION:We are pleased to be hosting the 28th annual Flight for Tomorrow Invitational Golf Tournament. Proceeds from this tournament provide the funding for all kids with bleeding disorders (ages 7-16) in the state of Florida to attend bleeding disorders Summer Camp. It also enables families to attend the annual Bleeding Disorders Family Retreat Weekend in the fall. All additional funds raised will assist in funding BDFF’s Compassionate Care and Peer Programs. \n  \nJoin us on Monday\, October 21\, 2024 for the 28th annual Flight for Tomorrow Golf Tournament!
URL:https://bleedingdisordersfl.org/event/28th-annual-flight-for-tomorrow-invitational-golf-tournament/
LOCATION:Ardea Country Club\, 1055 E Lake Woodlands Pkwy\, Oldsmar\, FL\, 34677\, United States
CATEGORIES:Fun Stuff
END:VEVENT
BEGIN:VEVENT
DTSTART;TZID=America/New_York:20241026T160000
DTEND;TZID=America/New_York:20241026T190000
DTSTAMP:20260420T020714
CREATED:20240314T180119Z
LAST-MODIFIED:20240314T180119Z
UID:12600-1729958400-1729969200@bleedingdisordersfl.org
SUMMARY:18th annual Orlando Creepy Crawl 5k & Fun Walk
DESCRIPTION:Join us in the fun at the 18th annual Creepy Crawl 5k Run & Fun Walk on October 26th at Harbor Park\, 4990 New Broad Street Orlando\, FL from 4-7PM!
URL:https://bleedingdisordersfl.org/event/18th-annual-orlando-creepy-crawl-5k-fun-walk/
LOCATION:Harbor Park at Lake Baldwin\, 4990 New Broad Street\, Orlando\, FL\, 32814\, United States
CATEGORIES:Fun Stuff,Fundraising,Walks/5K
END:VEVENT
END:VCALENDAR