BEGIN:VCALENDAR
VERSION:2.0
PRODID:-//Bleeding Disorders Foundation of Florida - ECPv6.15.20//NONSGML v1.0//EN
CALSCALE:GREGORIAN
METHOD:PUBLISH
X-WR-CALNAME:Bleeding Disorders Foundation of Florida
X-ORIGINAL-URL:https://bleedingdisordersfl.org
X-WR-CALDESC:Events for Bleeding Disorders Foundation of Florida
REFRESH-INTERVAL;VALUE=DURATION:PT1H
X-Robots-Tag:noindex
X-PUBLISHED-TTL:PT1H
BEGIN:VTIMEZONE
TZID:America/New_York
BEGIN:DAYLIGHT
TZOFFSETFROM:-0500
TZOFFSETTO:-0400
TZNAME:EDT
DTSTART:20230312T070000
END:DAYLIGHT
BEGIN:STANDARD
TZOFFSETFROM:-0400
TZOFFSETTO:-0500
TZNAME:EST
DTSTART:20231105T060000
END:STANDARD
BEGIN:DAYLIGHT
TZOFFSETFROM:-0500
TZOFFSETTO:-0400
TZNAME:EDT
DTSTART:20240310T070000
END:DAYLIGHT
BEGIN:STANDARD
TZOFFSETFROM:-0400
TZOFFSETTO:-0500
TZNAME:EST
DTSTART:20241103T060000
END:STANDARD
BEGIN:DAYLIGHT
TZOFFSETFROM:-0500
TZOFFSETTO:-0400
TZNAME:EDT
DTSTART:20250309T070000
END:DAYLIGHT
BEGIN:STANDARD
TZOFFSETFROM:-0400
TZOFFSETTO:-0500
TZNAME:EST
DTSTART:20251102T060000
END:STANDARD
END:VTIMEZONE
BEGIN:VEVENT
DTSTART;TZID=America/New_York:20240813T080000
DTEND;TZID=America/New_York:20240813T170000
DTSTAMP:20260420T051029
CREATED:20240813T164531Z
LAST-MODIFIED:20240813T164531Z
UID:13202-1723536000-1723568400@bleedingdisordersfl.org
SUMMARY:Creepy Crawl Committee Meeting
DESCRIPTION:  \nWe need your help! \nJoin us for the Creepy Crawl Virtual Committee Meeting \nTuesday\, Aug 27\, 2024\, 11:00 AM  \nRSVP:  info@bleedingdisordersfl.org or 800-293-6527 \n 
URL:https://bleedingdisordersfl.org/event/creepy-crawl-committee-meeting/
LOCATION:FL
END:VEVENT
BEGIN:VEVENT
DTSTART;TZID=America/New_York:20240813T080000
DTEND;TZID=America/New_York:20240813T170000
DTSTAMP:20260420T051029
CREATED:20240813T164941Z
LAST-MODIFIED:20240813T164941Z
UID:13204-1723536000-1723568400@bleedingdisordersfl.org
SUMMARY:SUPERHERO WALK COMMITTEE MEETING
DESCRIPTION:WE NEED YOUR HELP!   \nJoin us for the Superhero virtual committee planning meeting \nWednesday\, September 4\, 2024\, 11:00 am  \nRSVP:  info@bleedingdisordersfl.org or 800-293-6527
URL:https://bleedingdisordersfl.org/event/superhero-walk-committee-meeting/
LOCATION:FL
END:VEVENT
BEGIN:VEVENT
DTSTART;TZID=America/New_York:20240823T183000
DTEND;TZID=America/New_York:20240823T203000
DTSTAMP:20260420T051029
CREATED:20240806T181003Z
LAST-MODIFIED:20240806T181003Z
UID:13173-1724437800-1724445000@bleedingdisordersfl.org
SUMMARY:Tampa Patient Program at Topgolf: Back-to-School
DESCRIPTION:Join us for a fun family back-to-school program at Topgolf!
URL:https://bleedingdisordersfl.org/event/tampa-patient-program-at-topgolf-back-to-school/
LOCATION:Topgolf Tampa\, 10690 Palm River Road\, Tampa\, FL\, 33619\, United States
END:VEVENT
END:VCALENDAR