BEGIN:VCALENDAR
VERSION:2.0
PRODID:-//Bleeding Disorders Foundation of Florida - ECPv6.15.20//NONSGML v1.0//EN
CALSCALE:GREGORIAN
METHOD:PUBLISH
X-WR-CALNAME:Bleeding Disorders Foundation of Florida
X-ORIGINAL-URL:https://bleedingdisordersfl.org
X-WR-CALDESC:Events for Bleeding Disorders Foundation of Florida
REFRESH-INTERVAL;VALUE=DURATION:PT1H
X-Robots-Tag:noindex
X-PUBLISHED-TTL:PT1H
BEGIN:VTIMEZONE
TZID:America/New_York
BEGIN:DAYLIGHT
TZOFFSETFROM:-0500
TZOFFSETTO:-0400
TZNAME:EDT
DTSTART:20230312T070000
END:DAYLIGHT
BEGIN:STANDARD
TZOFFSETFROM:-0400
TZOFFSETTO:-0500
TZNAME:EST
DTSTART:20231105T060000
END:STANDARD
BEGIN:DAYLIGHT
TZOFFSETFROM:-0500
TZOFFSETTO:-0400
TZNAME:EDT
DTSTART:20240310T070000
END:DAYLIGHT
BEGIN:STANDARD
TZOFFSETFROM:-0400
TZOFFSETTO:-0500
TZNAME:EST
DTSTART:20241103T060000
END:STANDARD
BEGIN:DAYLIGHT
TZOFFSETFROM:-0500
TZOFFSETTO:-0400
TZNAME:EDT
DTSTART:20250309T070000
END:DAYLIGHT
BEGIN:STANDARD
TZOFFSETFROM:-0400
TZOFFSETTO:-0500
TZNAME:EST
DTSTART:20251102T060000
END:STANDARD
END:VTIMEZONE
BEGIN:VEVENT
DTSTART;TZID=America/New_York:20240601T090000
DTEND;TZID=America/New_York:20240601T120000
DTSTAMP:20260420T083633
CREATED:20240429T170505Z
LAST-MODIFIED:20240429T170505Z
UID:12860-1717232400-1717243200@bleedingdisordersfl.org
SUMMARY:Annual Family Program at SeaWorld Orlando
DESCRIPTION:What is the same and what has changed? Join us for a very special family program at SeaWorld Orlando on June 1st! \n  \nRSVP by emailing info@bleedingdisordersfl.org or call 800-293-6527
URL:https://bleedingdisordersfl.org/event/annual-family-program-at-seaworld-orlando/
LOCATION:SeaWorld Orlando\, 7007 SeaWorld Drive\, Orlando\, FL\, United States
END:VEVENT
BEGIN:VEVENT
DTSTART;TZID=America/New_York:20240605T180000
DTEND;TZID=America/New_York:20240605T203000
DTSTAMP:20260420T083633
CREATED:20240522T162157Z
LAST-MODIFIED:20240522T162157Z
UID:12947-1717610400-1717619400@bleedingdisordersfl.org
SUMMARY:Pensacola Patient Dinner Program
DESCRIPTION:Let’s talk about Factor Fluency! Join us on June 5th at The District restaurant for a fun\, educational dinner program.
URL:https://bleedingdisordersfl.org/event/pensacola-patient-dinner-program/
LOCATION:The District\, 123 E Government St\, Pensacola\, FL\, 32502\, United States
END:VEVENT
BEGIN:VEVENT
DTSTART;TZID=America/New_York:20240613T183000
DTEND;TZID=America/New_York:20240613T203000
DTSTAMP:20260420T083633
CREATED:20240522T185607Z
LAST-MODIFIED:20240522T185607Z
UID:12950-1718303400-1718310600@bleedingdisordersfl.org
SUMMARY:Jacksonville Patient Dinner Program
DESCRIPTION:RSVP by June 10th for this fun\, educational dinner program!
URL:https://bleedingdisordersfl.org/event/jacksonville-patient-dinner-program/
LOCATION:Season’s 52 Restaurant\, 7700 Sandlake Road\, Orlando\, FL\, 32819\, United States
CATEGORIES:Programs
END:VEVENT
BEGIN:VEVENT
DTSTART;TZID=America/New_York:20240619T140000
DTEND;TZID=America/New_York:20240623T120000
DTSTAMP:20260420T083633
CREATED:20240208T204925Z
LAST-MODIFIED:20240208T204925Z
UID:12412-1718805600-1719144000@bleedingdisordersfl.org
SUMMARY:Camp Spirit
DESCRIPTION:
URL:https://bleedingdisordersfl.org/event/camp-spirit-3/
LOCATION:Camp Boggy Creek\, 30500 Brantley Branch Rd\,\, Eustis\, FL\, 32736\, United States
CATEGORIES:Camp,Fun Stuff,Programs
END:VEVENT
BEGIN:VEVENT
DTSTART;TZID=America/New_York:20240628T183000
DTEND;TZID=America/New_York:20240629T110000
DTSTAMP:20260420T083633
CREATED:20240621T200250Z
LAST-MODIFIED:20240621T200250Z
UID:13056-1719599400-1719658800@bleedingdisordersfl.org
SUMMARY:Women's Retreat
DESCRIPTION:The Women’s Retreat is a special overnight program for woman/girls with bleeding disorders and carriers. You will learn the most updated information from the experts\, share information and have lots of fun!
URL:https://bleedingdisordersfl.org/event/womens-retreat/
LOCATION:Renaissance Hotel St. Augustine\, 6 W Castillo Dr.\, Saint Augustine\, 32804\, United States
END:VEVENT
END:VCALENDAR