BEGIN:VCALENDAR
VERSION:2.0
PRODID:-//Bleeding Disorders Foundation of Florida - ECPv6.15.20//NONSGML v1.0//EN
CALSCALE:GREGORIAN
METHOD:PUBLISH
X-ORIGINAL-URL:https://bleedingdisordersfl.org
X-WR-CALDESC:Events for Bleeding Disorders Foundation of Florida
REFRESH-INTERVAL;VALUE=DURATION:PT1H
X-Robots-Tag:noindex
X-PUBLISHED-TTL:PT1H
BEGIN:VTIMEZONE
TZID:America/New_York
BEGIN:DAYLIGHT
TZOFFSETFROM:-0500
TZOFFSETTO:-0400
TZNAME:EDT
DTSTART:20220313T070000
END:DAYLIGHT
BEGIN:STANDARD
TZOFFSETFROM:-0400
TZOFFSETTO:-0500
TZNAME:EST
DTSTART:20221106T060000
END:STANDARD
BEGIN:DAYLIGHT
TZOFFSETFROM:-0500
TZOFFSETTO:-0400
TZNAME:EDT
DTSTART:20230312T070000
END:DAYLIGHT
BEGIN:STANDARD
TZOFFSETFROM:-0400
TZOFFSETTO:-0500
TZNAME:EST
DTSTART:20231105T060000
END:STANDARD
BEGIN:DAYLIGHT
TZOFFSETFROM:-0500
TZOFFSETTO:-0400
TZNAME:EDT
DTSTART:20240310T070000
END:DAYLIGHT
BEGIN:STANDARD
TZOFFSETFROM:-0400
TZOFFSETTO:-0500
TZNAME:EST
DTSTART:20241103T060000
END:STANDARD
END:VTIMEZONE
BEGIN:VEVENT
DTSTART;TZID=America/New_York:20231012T180000
DTEND;TZID=America/New_York:20231012T200000
DTSTAMP:20260420T232449
CREATED:20230921T172333Z
LAST-MODIFIED:20230921T172333Z
UID:11907-1697133600-1697140800@bleedingdisordersfl.org
SUMMARY:Orlando Dinner Program: Gene Therapy in Hemophilia A
DESCRIPTION:Join us for a Special Dinner Program \nGene Therapy in Hemophilia A: \nCome find out what all the buzz is about—from curiosity to eligibility and beyond \n\nFacilitated by \nMaria E. Torres Esteves\, R.Ph.\, Pharm.D. \nAccount Manager\, Gene Therapy \nBioMarin Pharmaceutical Inc. \n\nThursday\, October 12\, 2023 \n6:00PM \nSeason’s 52 Restaurant \n \nOrlando \n7700 W Sand Lake Rd \nOrlando\, FL 32819 \nRSVP to \ninfo@bleedingdisordersfl.org or 407-629-0000 \n\nSponsored By:
URL:https://bleedingdisordersfl.org/event/orlando-dinner-program-gene-therapy-in-hemophilia-a/
LOCATION:Season’s 52 Restaurant\, 7700 Sandlake Road\, Orlando\, FL\, 32819\, United States
CATEGORIES:Programs
END:VEVENT
BEGIN:VEVENT
DTSTART;TZID=America/New_York:20231013T170000
DTEND;TZID=America/New_York:20231015T121500
DTSTAMP:20260420T232449
CREATED:20230714T185732Z
LAST-MODIFIED:20230810T191929Z
UID:11711-1697216400-1697372100@bleedingdisordersfl.org
SUMMARY:Family Retreat Weekend
DESCRIPTION:Family Retreat Weekend is the perfect way for families to get familiar with Camp Spirit. The whole family is invited to spend a weekend at Camp Spirit so that everyone in the family can get comfortable with all of the fun activities available at Camp Spirit. This way\, when it’s time for kids to go to Camp Spirit in the summer\, everyone feels comfortable and is looking forward to it! SPACE IS LIMITED.
URL:https://bleedingdisordersfl.org/event/family-retreat-weekend-2/
LOCATION:Camp Boggy Creek\, 30500 Brantley Branch Rd\,\, Eustis\, FL\, 32736\, United States
CATEGORIES:Camp,Fun Stuff,Programs
END:VEVENT
BEGIN:VEVENT
DTSTART;TZID=America/New_York:20231023T103000
DTEND;TZID=America/New_York:20231023T170000
DTSTAMP:20260420T232449
CREATED:20230524T205806Z
LAST-MODIFIED:20230524T205806Z
UID:11602-1698057000-1698080400@bleedingdisordersfl.org
SUMMARY:Flight for Tomorrow Golf Tournament
DESCRIPTION:Join us on Monday\, October 23rd for the 27th Annual Flight for Tomorrow Golf Tournament for a day of fun\, food\, silent auctions\, raffles\, and golf! The golf tournament is BDFF’s largest fundraiser of the year\, and your support is so appreciated. Form a team and join the fun! \n  \nEast Lake Woodlands Country Club \n1055 East Lake Woodlands Pkwy. Oldsmar\, FL 34677 \n  \nRegister today for a tee-rific day: 2023 BDFF Golf Tournament
URL:https://bleedingdisordersfl.org/event/flight-for-tomorrow-golf-tournament/
LOCATION:Ardea Country Club\, 1055 E Lake Woodlands Pkwy\, Oldsmar\, FL\, 34677\, United States
END:VEVENT
BEGIN:VEVENT
DTSTART;TZID=America/New_York:20231028T160000
DTEND;TZID=America/New_York:20231028T190000
DTSTAMP:20260420T232449
CREATED:20230524T185314Z
LAST-MODIFIED:20230524T185656Z
UID:11586-1698508800-1698519600@bleedingdisordersfl.org
SUMMARY:17th Annual Creepy Crawl 5K Run & Walk
DESCRIPTION:Join us on Saturday\, October 28th at Harbor Park in Baldwin Park from 4-7PM for a SPOOKY evening filled with fun\, food\, special guests\, and more. Invite family\, friends\, neighbors\, coworkers\, and whomever else you’d like\, all are welcome! Dress up as your favorite Halloween character\, and beware of ghosts! \n  \nRemember–Raise $25 or more to receive a 2023 Creepy Crawl Walk T-shirt! \nRegister for the Creepy Crawl today: 2023 Creepy Crawl 5K Run & Walk
URL:https://bleedingdisordersfl.org/event/17th-annual-creepy-crawl-5k-run-walk/
LOCATION:Harbor Park at Lake Baldwin\, 4990 New Broad Street\, Orlando\, FL\, 32814\, United States
CATEGORIES:Fun Stuff,Fundraising,Walks/5K
END:VEVENT
END:VCALENDAR