BEGIN:VCALENDAR
VERSION:2.0
PRODID:-//Bleeding Disorders Foundation of Florida - ECPv6.15.20//NONSGML v1.0//EN
CALSCALE:GREGORIAN
METHOD:PUBLISH
X-ORIGINAL-URL:https://bleedingdisordersfl.org
X-WR-CALDESC:Events for Bleeding Disorders Foundation of Florida
REFRESH-INTERVAL;VALUE=DURATION:PT1H
X-Robots-Tag:noindex
X-PUBLISHED-TTL:PT1H
BEGIN:VTIMEZONE
TZID:America/New_York
BEGIN:DAYLIGHT
TZOFFSETFROM:-0500
TZOFFSETTO:-0400
TZNAME:EDT
DTSTART:20220313T070000
END:DAYLIGHT
BEGIN:STANDARD
TZOFFSETFROM:-0400
TZOFFSETTO:-0500
TZNAME:EST
DTSTART:20221106T060000
END:STANDARD
BEGIN:DAYLIGHT
TZOFFSETFROM:-0500
TZOFFSETTO:-0400
TZNAME:EDT
DTSTART:20230312T070000
END:DAYLIGHT
BEGIN:STANDARD
TZOFFSETFROM:-0400
TZOFFSETTO:-0500
TZNAME:EST
DTSTART:20231105T060000
END:STANDARD
BEGIN:DAYLIGHT
TZOFFSETFROM:-0500
TZOFFSETTO:-0400
TZNAME:EDT
DTSTART:20240310T070000
END:DAYLIGHT
BEGIN:STANDARD
TZOFFSETFROM:-0400
TZOFFSETTO:-0500
TZNAME:EST
DTSTART:20241103T060000
END:STANDARD
END:VTIMEZONE
BEGIN:VEVENT
DTSTART;TZID=America/New_York:20230803T183000
DTEND;TZID=America/New_York:20230803T210000
DTSTAMP:20260421T043026
CREATED:20230714T154743Z
LAST-MODIFIED:20230714T154743Z
UID:11705-1691087400-1691096400@bleedingdisordersfl.org
SUMMARY:Topgolf Orlando: Fun Family Program
DESCRIPTION:Join us for a Fun Family Program \nAn information conversation about Hemophilia A \n  \nPresented By \nTim G. \nCommon Factors® Advocate \n\nThursday\, August 3\, 2023 \n6:30 PM \n\nTopgolf Orlando \n9295 Universal Blvd\nOrlando\, FL 32819\n\n\nThis program includes refreshments and Topgolf playing\n\n\nRSVP by July 28\, 2023\ninfo@bleedingdisordersfl.org or 800-293-6527\n\nSponsored By
URL:https://bleedingdisordersfl.org/event/topgolf-orlando-fun-family-program/
LOCATION:TopGolf Orlando\, 9295 Universal Blvd.\, Orlando\, Florida\, 32819
CATEGORIES:Fun Stuff,Programs
END:VEVENT
BEGIN:VEVENT
DTSTART;TZID=America/New_York:20230826T100000
DTEND;TZID=America/New_York:20230826T130000
DTSTAMP:20260421T043026
CREATED:20230810T191503Z
LAST-MODIFIED:20230810T191532Z
UID:11802-1693044000-1693054800@bleedingdisordersfl.org
SUMMARY:Fun Family Program: All Star Trivia at Adventure Island
DESCRIPTION:Join us for a Special Family Program! \nALL STAR TRIVIA \nTest your bleeding disorder knowledge and other fun trivia \n  \nSaturday\, August 26\, 2023 \n10:00 AM \nRain or Shine \n  \nAdventure Island \n4500 Bougainvillea Ave \nTampa\, FL 33617 \n  \n \nThe day includes breakfast\, fun\, and an afternoon at Adventure Island! \nRSVP by August 21\, 2023 \n(Space is limited to immediate family members only) \n  \nRSVP by calling 800-293-6527 or emailing info@bleedingdisordersfl.org \n 
URL:https://bleedingdisordersfl.org/event/fun-family-program-all-star-trivia-at-adventure-island/
LOCATION:Adventure Island\, 4500 Bougainvillea Ave\, Tampa\, FL\, 33612\, United States
END:VEVENT
END:VCALENDAR