BEGIN:VCALENDAR
VERSION:2.0
PRODID:-//Bleeding Disorders Foundation of Florida - ECPv6.15.20//NONSGML v1.0//EN
CALSCALE:GREGORIAN
METHOD:PUBLISH
X-WR-CALNAME:Bleeding Disorders Foundation of Florida
X-ORIGINAL-URL:https://bleedingdisordersfl.org
X-WR-CALDESC:Events for Bleeding Disorders Foundation of Florida
REFRESH-INTERVAL;VALUE=DURATION:PT1H
X-Robots-Tag:noindex
X-PUBLISHED-TTL:PT1H
BEGIN:VTIMEZONE
TZID:America/New_York
BEGIN:DAYLIGHT
TZOFFSETFROM:-0500
TZOFFSETTO:-0400
TZNAME:EDT
DTSTART:20220313T070000
END:DAYLIGHT
BEGIN:STANDARD
TZOFFSETFROM:-0400
TZOFFSETTO:-0500
TZNAME:EST
DTSTART:20221106T060000
END:STANDARD
BEGIN:DAYLIGHT
TZOFFSETFROM:-0500
TZOFFSETTO:-0400
TZNAME:EDT
DTSTART:20230312T070000
END:DAYLIGHT
BEGIN:STANDARD
TZOFFSETFROM:-0400
TZOFFSETTO:-0500
TZNAME:EST
DTSTART:20231105T060000
END:STANDARD
BEGIN:DAYLIGHT
TZOFFSETFROM:-0500
TZOFFSETTO:-0400
TZNAME:EDT
DTSTART:20240310T070000
END:DAYLIGHT
BEGIN:STANDARD
TZOFFSETFROM:-0400
TZOFFSETTO:-0500
TZNAME:EST
DTSTART:20241103T060000
END:STANDARD
END:VTIMEZONE
BEGIN:VEVENT
DTSTART;TZID=America/New_York:20230608T160000
DTEND;TZID=America/New_York:20230608T210000
DTSTAMP:20260421T085519
CREATED:20230524T202235Z
LAST-MODIFIED:20230524T202235Z
UID:11597-1686240000-1686258000@bleedingdisordersfl.org
SUMMARY:Blaze Pizza Special Fundraiser
DESCRIPTION:RAISE SOME DOUGH and come to Blaze Pizza in Winter Park (501 N Orlando Ave\, Winter Park\, FL 32789) to support the BDFF on June 8th from 4-9PM while enjoying some delicious pizza! \nBlaze Pizza will donate 20% of proceeds from your meal back to our organization. We can’t wait to see you there! \n  \n  \n  \n 
URL:https://bleedingdisordersfl.org/event/blaze-pizza-special-fundraiser/
LOCATION:Blaze Pizza- Winter Park\, 501 N Orlando Ave\, Winter Park\, FL\, 32789\, United States
END:VEVENT
BEGIN:VEVENT
DTSTART;TZID=America/New_York:20230609T183000
DTEND;TZID=America/New_York:20230610T170000
DTSTAMP:20260421T085519
CREATED:20230524T193751Z
LAST-MODIFIED:20230524T193853Z
UID:11590-1686335400-1686416400@bleedingdisordersfl.org
SUMMARY:Women's/Girls' Annual Retreat
DESCRIPTION:Join us for a special Women’s Retreat from June 9-10th (Friday-Saturday) starting at 6:30PM at the historic downtown Renaissance hotel in St. Augustine! \n  \nAddress: \n6 W Castillo Dr. Saint Augustine\, FL 32804 \n  \nThe Women’s Retreat is a special overnight program for women/girls with bleeding disorders and carriers. You will learn the most updated information from the experts\, share information\, and have lots of fun! \n  \nRSVP BY MAY 20\, 2023 by emailing info@hemophiliflorida.org OR call 800-293-6527 \n  \n  \n 
URL:https://bleedingdisordersfl.org/event/womens-girls-annual-retreat/
LOCATION:Renaissance Hotel St. Augustine\, 6 W Castillo Dr.\, Saint Augustine\, 32804\, United States
CATEGORIES:Programs
END:VEVENT
BEGIN:VEVENT
DTSTART;TZID=America/New_York:20230612T080000
DTEND;TZID=America/New_York:20230616T170000
DTSTAMP:20260421T085519
CREATED:20230524T200715Z
LAST-MODIFIED:20230524T200806Z
UID:11594-1686556800-1686934800@bleedingdisordersfl.org
SUMMARY:Camp Spirit
DESCRIPTION:The Bleeding Disorders Foundation of Florida (BDFF) has been sending children to Camp for 22 years.  The BDFF supports more than 70 children ages 7-16 to attend Camp Spirit\, summer camp program.  Camp Spirit is an overnight camping program that offers campers the chance to enjoy a week at a medically supervised camp. \n  \nJoin the Bleeding Disorders Foundation of Florida in experiencing the magic of Camp Spirit from June 12-16! \nRegister for Camp Spirit: https://www.boggycreek.org/camper-application \nRSVP BY June 7th
URL:https://bleedingdisordersfl.org/event/camp-spirit-2/
LOCATION:Camp Boggy Creek\, 30500 Brantley Branch Road\, Eustis\, FL\, 32736\, United States
CATEGORIES:Camp,Fun Stuff
END:VEVENT
END:VCALENDAR