BEGIN:VCALENDAR
VERSION:2.0
PRODID:-//Bleeding Disorders Foundation of Florida - ECPv6.15.20//NONSGML v1.0//EN
CALSCALE:GREGORIAN
METHOD:PUBLISH
X-ORIGINAL-URL:https://bleedingdisordersfl.org
X-WR-CALDESC:Events for Bleeding Disorders Foundation of Florida
REFRESH-INTERVAL;VALUE=DURATION:PT1H
X-Robots-Tag:noindex
X-PUBLISHED-TTL:PT1H
BEGIN:VTIMEZONE
TZID:America/New_York
BEGIN:DAYLIGHT
TZOFFSETFROM:-0500
TZOFFSETTO:-0400
TZNAME:EDT
DTSTART:20220313T070000
END:DAYLIGHT
BEGIN:STANDARD
TZOFFSETFROM:-0400
TZOFFSETTO:-0500
TZNAME:EST
DTSTART:20221106T060000
END:STANDARD
BEGIN:DAYLIGHT
TZOFFSETFROM:-0500
TZOFFSETTO:-0400
TZNAME:EDT
DTSTART:20230312T070000
END:DAYLIGHT
BEGIN:STANDARD
TZOFFSETFROM:-0400
TZOFFSETTO:-0500
TZNAME:EST
DTSTART:20231105T060000
END:STANDARD
BEGIN:DAYLIGHT
TZOFFSETFROM:-0500
TZOFFSETTO:-0400
TZNAME:EDT
DTSTART:20240310T070000
END:DAYLIGHT
BEGIN:STANDARD
TZOFFSETFROM:-0400
TZOFFSETTO:-0500
TZNAME:EST
DTSTART:20241103T060000
END:STANDARD
END:VTIMEZONE
BEGIN:VEVENT
DTSTART;TZID=America/New_York:20230406T183000
DTEND;TZID=America/New_York:20230406T200000
DTSTAMP:20260421T102507
CREATED:20230331T160227Z
LAST-MODIFIED:20230331T160227Z
UID:11438-1680805800-1680811200@bleedingdisordersfl.org
SUMMARY:Family Dinner -Hemophilia is a Piece of you not all of you
DESCRIPTION:You’re invited to a family dinner program-\n\n\n\n\n\n\n\n\n\n\n\n\n\n\n\nHemophilia is A Piece of\nYou Not All of You.\n\n\n\n\n\n\n\n\n\n\n\n\n\n\n\n\n\n\n\n\n\n\n\n\n\nSpeakers\nJanet Martin\, MSN\, RN-BC\, CPN\n&\nTony A\n\nThursday April 6\, 2023\n6:30 pm\n\n\nSeasons 52\n7700 W. Sand Lake Road\nOrlando\, Florida 32819
URL:https://bleedingdisordersfl.org/event/family-dinner-hemophilia-is-a-piece-of-you-not-all-of-you/
LOCATION:Seasons 52\, 7700 W. Sand Lake Road\, Orlando\, FL\, 32819\, United States
END:VEVENT
BEGIN:VEVENT
DTSTART;TZID=America/New_York:20230415T080000
DTEND;TZID=America/New_York:20230415T110000
DTSTAMP:20260421T102507
CREATED:20230209T180102Z
LAST-MODIFIED:20230209T180631Z
UID:11300-1681545600-1681556400@bleedingdisordersfl.org
SUMMARY:2023 Gainesville Clot Trot
DESCRIPTION:
URL:https://bleedingdisordersfl.org/event/gainesville-clot-trot-2/
LOCATION:Sante Fe College\, 3000 NW 83rd Street (39th St NW Field)\, Gainesville\, FL\, 32606\, United States
END:VEVENT
BEGIN:VEVENT
DTSTART;TZID=America/New_York:20230422T110000
DTEND;TZID=America/New_York:20230422T130000
DTSTAMP:20260421T102507
CREATED:20230331T154208Z
LAST-MODIFIED:20230331T154208Z
UID:11426-1682161200-1682168400@bleedingdisordersfl.org
SUMMARY:Women's Tea - Tampa
DESCRIPTION:Join us for a Ladies Tea Luncheon\n\nSharing the most updated information about\nWomen and Bleeding Disorders\n\nPresented by\n\nErin Cockrell\, DO\n Director\nSt. Joseph’s Hospital\nCenter for Bleeding and Clotting Disorders\n\nSaturday\, April 22\, 2023\n11:00 am\n\nRusty Pelican\n2425 N Rocky Point Drive\nTampa\, FL 33607
URL:https://bleedingdisordersfl.org/event/womens-tea-tampa/
LOCATION:Rusty Pelican\, 2425 N Rocky Point Drive\, Tampa\, FL\, 33607\, United States
END:VEVENT
END:VCALENDAR