BEGIN:VCALENDAR
VERSION:2.0
PRODID:-//Bleeding Disorders Foundation of Florida - ECPv6.15.20//NONSGML v1.0//EN
CALSCALE:GREGORIAN
METHOD:PUBLISH
X-WR-CALNAME:Bleeding Disorders Foundation of Florida
X-ORIGINAL-URL:https://bleedingdisordersfl.org
X-WR-CALDESC:Events for Bleeding Disorders Foundation of Florida
REFRESH-INTERVAL;VALUE=DURATION:PT1H
X-Robots-Tag:noindex
X-PUBLISHED-TTL:PT1H
BEGIN:VTIMEZONE
TZID:America/New_York
BEGIN:DAYLIGHT
TZOFFSETFROM:-0500
TZOFFSETTO:-0400
TZNAME:EDT
DTSTART:20220313T070000
END:DAYLIGHT
BEGIN:STANDARD
TZOFFSETFROM:-0400
TZOFFSETTO:-0500
TZNAME:EST
DTSTART:20221106T060000
END:STANDARD
BEGIN:DAYLIGHT
TZOFFSETFROM:-0500
TZOFFSETTO:-0400
TZNAME:EDT
DTSTART:20230312T070000
END:DAYLIGHT
BEGIN:STANDARD
TZOFFSETFROM:-0400
TZOFFSETTO:-0500
TZNAME:EST
DTSTART:20231105T060000
END:STANDARD
BEGIN:DAYLIGHT
TZOFFSETFROM:-0500
TZOFFSETTO:-0400
TZNAME:EDT
DTSTART:20240310T070000
END:DAYLIGHT
BEGIN:STANDARD
TZOFFSETFROM:-0400
TZOFFSETTO:-0500
TZNAME:EST
DTSTART:20241103T060000
END:STANDARD
END:VTIMEZONE
BEGIN:VEVENT
DTSTART;TZID=America/New_York:20230304T160000
DTEND;TZID=America/New_York:20230304T200000
DTSTAMP:20260423T062657
CREATED:20230209T181535Z
LAST-MODIFIED:20230209T181938Z
UID:11306-1677945600-1677960000@bleedingdisordersfl.org
SUMMARY:Gainesville Family Event
DESCRIPTION:The BDFF cordially invites you to a\n\n\nA FUN FAMILY EVENT\nwith the\nUniversity of Florida HTC\n\n\nSaturday\, March 4\, 2023\n4:00 pm\n\n\n\nat the \nSWAMP RESTAURANT\n1104 SW 2nd Ave\nGainesville Fl 32601\n\n\nEnjoy a delicious dinner and see the\nBasketball game of the Season\nUF Gators vs LSU Tigers\n\nJoin us for dinner even if you don’t want to attend the basketball game\nFun for the whole family!\n\nR.S.V.P. by February 28\, 2023\n\nCall 407-629-0000\nEmail info@bleedingdisordersfl.org\n\n\nSponsored by
URL:https://bleedingdisordersfl.org/event/11306/
LOCATION:Swamp Restaurant\, 1104 SW 2nd Ave\, Gainesville\, FL\, 32601\, United States
END:VEVENT
BEGIN:VEVENT
DTSTART;TZID=America/New_York:20230305T160000
DTEND;TZID=America/New_York:20230305T200000
DTSTAMP:20260423T062657
CREATED:20230209T182635Z
LAST-MODIFIED:20230209T185826Z
UID:11314-1678032000-1678046400@bleedingdisordersfl.org
SUMMARY:Orlando Magic March Madness
DESCRIPTION:PROGRAM AND DINNER ARE INCLUDED
URL:https://bleedingdisordersfl.org/event/orlando-magic-march-madness/
LOCATION:Kia Center\, 400 West Church Street #200\, Orlando\, FL\, 32801\, United States
END:VEVENT
END:VCALENDAR