BEGIN:VCALENDAR
VERSION:2.0
PRODID:-//Bleeding Disorders Foundation of Florida - ECPv6.15.20//NONSGML v1.0//EN
CALSCALE:GREGORIAN
METHOD:PUBLISH
X-WR-CALNAME:Bleeding Disorders Foundation of Florida
X-ORIGINAL-URL:https://bleedingdisordersfl.org
X-WR-CALDESC:Events for Bleeding Disorders Foundation of Florida
REFRESH-INTERVAL;VALUE=DURATION:PT1H
X-Robots-Tag:noindex
X-PUBLISHED-TTL:PT1H
BEGIN:VTIMEZONE
TZID:America/New_York
BEGIN:DAYLIGHT
TZOFFSETFROM:-0500
TZOFFSETTO:-0400
TZNAME:EDT
DTSTART:20210314T070000
END:DAYLIGHT
BEGIN:STANDARD
TZOFFSETFROM:-0400
TZOFFSETTO:-0500
TZNAME:EST
DTSTART:20211107T060000
END:STANDARD
BEGIN:DAYLIGHT
TZOFFSETFROM:-0500
TZOFFSETTO:-0400
TZNAME:EDT
DTSTART:20220313T070000
END:DAYLIGHT
BEGIN:STANDARD
TZOFFSETFROM:-0400
TZOFFSETTO:-0500
TZNAME:EST
DTSTART:20221106T060000
END:STANDARD
BEGIN:DAYLIGHT
TZOFFSETFROM:-0500
TZOFFSETTO:-0400
TZNAME:EDT
DTSTART:20230312T070000
END:DAYLIGHT
BEGIN:STANDARD
TZOFFSETFROM:-0400
TZOFFSETTO:-0500
TZNAME:EST
DTSTART:20231105T060000
END:STANDARD
END:VTIMEZONE
BEGIN:VEVENT
DTSTART;TZID=America/New_York:20220304T180000
DTEND;TZID=America/New_York:20220304T200000
DTSTAMP:20260424T022919
CREATED:20211227T182432Z
LAST-MODIFIED:20211227T182432Z
UID:9919-1646416800-1646424000@bleedingdisordersfl.org
SUMMARY:Annual Evening on Broadway
DESCRIPTION:19th Annual Evening On Broadway\nJoin us at the Dr. Phillips Center for a night of Theatre Magic! \nMARCH 4\, 2022  \nFEATURING THE BROADWAY PRODUCTION OF \nThe Hit Broadway Musical  \n\n \nTICKETS NOW AVAILABLE \n$130 each \nSPONSORSHIPS ARE AVAILABLE
URL:https://bleedingdisordersfl.org/event/annual-evening-on-broadway/
LOCATION:Dr. Phillips Center for the Performing Arts\, 445 S. Magnolia Ave.\, Orlando\, FL\, 32801\, United States
END:VEVENT
BEGIN:VEVENT
DTSTART;TZID=America/New_York:20220310T180000
DTEND;TZID=America/New_York:20220310T200000
DTSTAMP:20260424T022919
CREATED:20220218T165859Z
LAST-MODIFIED:20220218T170946Z
UID:10195-1646935200-1646942400@bleedingdisordersfl.org
SUMMARY:Problem-solving day-to-day challenges of Hemophilia
DESCRIPTION:Problem-Solving the day-to-day challenges of Hemophilia \nInteractive Discussion & Dinner
URL:https://bleedingdisordersfl.org/event/10195/
LOCATION:Columbia Restaurant\, 2117 East 7th Avenue\, Tampa\, FL\, 33605\, United States
END:VEVENT
END:VCALENDAR