BEGIN:VCALENDAR
VERSION:2.0
PRODID:-//Bleeding Disorders Foundation of Florida - ECPv6.15.20//NONSGML v1.0//EN
CALSCALE:GREGORIAN
METHOD:PUBLISH
X-ORIGINAL-URL:https://bleedingdisordersfl.org
X-WR-CALDESC:Events for Bleeding Disorders Foundation of Florida
REFRESH-INTERVAL;VALUE=DURATION:PT1H
X-Robots-Tag:noindex
X-PUBLISHED-TTL:PT1H
BEGIN:VTIMEZONE
TZID:America/New_York
BEGIN:DAYLIGHT
TZOFFSETFROM:-0500
TZOFFSETTO:-0400
TZNAME:EDT
DTSTART:20200308T070000
END:DAYLIGHT
BEGIN:STANDARD
TZOFFSETFROM:-0400
TZOFFSETTO:-0500
TZNAME:EST
DTSTART:20201101T060000
END:STANDARD
BEGIN:DAYLIGHT
TZOFFSETFROM:-0500
TZOFFSETTO:-0400
TZNAME:EDT
DTSTART:20210314T070000
END:DAYLIGHT
BEGIN:STANDARD
TZOFFSETFROM:-0400
TZOFFSETTO:-0500
TZNAME:EST
DTSTART:20211107T060000
END:STANDARD
BEGIN:DAYLIGHT
TZOFFSETFROM:-0500
TZOFFSETTO:-0400
TZNAME:EDT
DTSTART:20220313T070000
END:DAYLIGHT
BEGIN:STANDARD
TZOFFSETFROM:-0400
TZOFFSETTO:-0500
TZNAME:EST
DTSTART:20221106T060000
END:STANDARD
END:VTIMEZONE
BEGIN:VEVENT
DTSTART;TZID=America/New_York:20210506T180000
DTEND;TZID=America/New_York:20210506T190000
DTSTAMP:20260424T174740
CREATED:20210430T222626Z
LAST-MODIFIED:20210430T223226Z
UID:8728-1620324000-1620327600@bleedingdisordersfl.org
SUMMARY:The Ups and Downs of Advocacy
DESCRIPTION:Ups & Downs of Advocacy
URL:https://bleedingdisordersfl.org/event/8728/
LOCATION:VIrtual
END:VEVENT
BEGIN:VEVENT
DTSTART;TZID=America/New_York:20210513T183000
DTEND;TZID=America/New_York:20210513T193000
DTSTAMP:20260424T174740
CREATED:20210430T223058Z
LAST-MODIFIED:20210430T223058Z
UID:8730-1620930600-1620934200@bleedingdisordersfl.org
SUMMARY:Rare Bleeding Disorders
DESCRIPTION:  \n  \nFernando F. Corrales Medina MD \nUniversity of Miami Pediatric Hemophilia  \nTreatment Center
URL:https://bleedingdisordersfl.org/event/rare-bleeding-disorders/
END:VEVENT
BEGIN:VEVENT
DTSTART;TZID=America/New_York:20210527T183000
DTEND;TZID=America/New_York:20210527T193000
DTSTAMP:20260424T174740
CREATED:20210430T223454Z
LAST-MODIFIED:20210430T223454Z
UID:8734-1622140200-1622143800@bleedingdisordersfl.org
SUMMARY:Being Prepared for an Emergency
DESCRIPTION:
URL:https://bleedingdisordersfl.org/event/being-prepared-for-an-emergency/
LOCATION:VIrtual
END:VEVENT
END:VCALENDAR