BEGIN:VCALENDAR
VERSION:2.0
PRODID:-//Bleeding Disorders Foundation of Florida - ECPv6.15.20//NONSGML v1.0//EN
CALSCALE:GREGORIAN
METHOD:PUBLISH
X-WR-CALNAME:Bleeding Disorders Foundation of Florida
X-ORIGINAL-URL:https://bleedingdisordersfl.org
X-WR-CALDESC:Events for Bleeding Disorders Foundation of Florida
REFRESH-INTERVAL;VALUE=DURATION:PT1H
X-Robots-Tag:noindex
X-PUBLISHED-TTL:PT1H
BEGIN:VTIMEZONE
TZID:America/New_York
BEGIN:DAYLIGHT
TZOFFSETFROM:-0500
TZOFFSETTO:-0400
TZNAME:EDT
DTSTART:20200308T070000
END:DAYLIGHT
BEGIN:STANDARD
TZOFFSETFROM:-0400
TZOFFSETTO:-0500
TZNAME:EST
DTSTART:20201101T060000
END:STANDARD
BEGIN:DAYLIGHT
TZOFFSETFROM:-0500
TZOFFSETTO:-0400
TZNAME:EDT
DTSTART:20210314T070000
END:DAYLIGHT
BEGIN:STANDARD
TZOFFSETFROM:-0400
TZOFFSETTO:-0500
TZNAME:EST
DTSTART:20211107T060000
END:STANDARD
BEGIN:DAYLIGHT
TZOFFSETFROM:-0500
TZOFFSETTO:-0400
TZNAME:EDT
DTSTART:20220313T070000
END:DAYLIGHT
BEGIN:STANDARD
TZOFFSETFROM:-0400
TZOFFSETTO:-0500
TZNAME:EST
DTSTART:20221106T060000
END:STANDARD
END:VTIMEZONE
BEGIN:VEVENT
DTSTART;TZID=America/New_York:20210210T180000
DTEND;TZID=America/New_York:20210210T190000
DTSTAMP:20260424T214527
CREATED:20210127T173618Z
LAST-MODIFIED:20210127T173618Z
UID:8217-1612980000-1612983600@bleedingdisordersfl.org
SUMMARY:Couples Cooking with Edgar
DESCRIPTION:Virtual Cooking Program
URL:https://bleedingdisordersfl.org/event/couples-cooking-with-edgar/
END:VEVENT
BEGIN:VEVENT
DTSTART;TZID=America/New_York:20210216T180000
DTEND;TZID=America/New_York:20210216T190000
DTSTAMP:20260424T214527
CREATED:20210127T174703Z
LAST-MODIFIED:20210127T174703Z
UID:8223-1613498400-1613502000@bleedingdisordersfl.org
SUMMARY:The Whole Tooth & Nothing but the Tooth
DESCRIPTION:Speaker: Erin Weigel\, MSN\, RN & CPN \nThe Importance of oral healthcare
URL:https://bleedingdisordersfl.org/event/the-whole-tooth-nothing-but-the-tooth/
END:VEVENT
BEGIN:VEVENT
DTSTART;TZID=America/New_York:20210223T180000
DTEND;TZID=America/New_York:20210223T190000
DTSTAMP:20260424T214527
CREATED:20210127T173938Z
LAST-MODIFIED:20210127T174349Z
UID:8219-1614103200-1614106800@bleedingdisordersfl.org
SUMMARY:The Female Connection
DESCRIPTION:Speaker: Dr. Gupta \nLearn how women inherit hemophilia\, what it means to be a carrier of the hemophilia gene\, and the effects of hemophilia on women and girls.
URL:https://bleedingdisordersfl.org/event/the-female-connection/
END:VEVENT
BEGIN:VEVENT
DTSTART;TZID=America/New_York:20210226T183000
DTEND;TZID=America/New_York:20210226T203000
DTSTAMP:20260424T214527
CREATED:20210222T194453Z
LAST-MODIFIED:20210222T194453Z
UID:8510-1614364200-1614371400@bleedingdisordersfl.org
SUMMARY:Virtual Escape Room- Teen Program
DESCRIPTION:
URL:https://bleedingdisordersfl.org/event/virtual-escape-room-teen-program/
END:VEVENT
END:VCALENDAR