BEGIN:VCALENDAR
VERSION:2.0
PRODID:-//Bleeding Disorders Foundation of Florida - ECPv6.15.20//NONSGML v1.0//EN
CALSCALE:GREGORIAN
METHOD:PUBLISH
X-WR-CALNAME:Bleeding Disorders Foundation of Florida
X-ORIGINAL-URL:https://bleedingdisordersfl.org
X-WR-CALDESC:Events for Bleeding Disorders Foundation of Florida
REFRESH-INTERVAL;VALUE=DURATION:PT1H
X-Robots-Tag:noindex
X-PUBLISHED-TTL:PT1H
BEGIN:VTIMEZONE
TZID:America/New_York
BEGIN:DAYLIGHT
TZOFFSETFROM:-0500
TZOFFSETTO:-0400
TZNAME:EDT
DTSTART:20200308T070000
END:DAYLIGHT
BEGIN:STANDARD
TZOFFSETFROM:-0400
TZOFFSETTO:-0500
TZNAME:EST
DTSTART:20201101T060000
END:STANDARD
BEGIN:DAYLIGHT
TZOFFSETFROM:-0500
TZOFFSETTO:-0400
TZNAME:EDT
DTSTART:20210314T070000
END:DAYLIGHT
BEGIN:STANDARD
TZOFFSETFROM:-0400
TZOFFSETTO:-0500
TZNAME:EST
DTSTART:20211107T060000
END:STANDARD
BEGIN:DAYLIGHT
TZOFFSETFROM:-0500
TZOFFSETTO:-0400
TZNAME:EDT
DTSTART:20220313T070000
END:DAYLIGHT
BEGIN:STANDARD
TZOFFSETFROM:-0400
TZOFFSETTO:-0500
TZNAME:EST
DTSTART:20221106T060000
END:STANDARD
END:VTIMEZONE
BEGIN:VEVENT
DTSTART;TZID=America/New_York:20210114T180000
DTEND;TZID=America/New_York:20210114T190000
DTSTAMP:20260424T230234
CREATED:20210108T193400Z
LAST-MODIFIED:20210108T193400Z
UID:8185-1610647200-1610650800@bleedingdisordersfl.org
SUMMARY:Family Feud Game Night
DESCRIPTION:Presenter \nMartina Wills McCullough\, RN
URL:https://bleedingdisordersfl.org/event/family-feud-game-night/
END:VEVENT
BEGIN:VEVENT
DTSTART;TZID=America/New_York:20210119T183000
DTEND;TZID=America/New_York:20210119T193000
DTSTAMP:20260424T230234
CREATED:20210108T193708Z
LAST-MODIFIED:20210108T193708Z
UID:8187-1611081000-1611084600@bleedingdisordersfl.org
SUMMARY:"Build Your Support System - In Real Life or Online"
DESCRIPTION:It’s important to seek out a community to give you direction when you’re lost. In addition to her involvement with her local National Hemophilia Foundation chapter\, Krissy joined a social media group for mothers of children with bleeding disorders. Today\, Krissy wants to share the importance of building a good support network and how it ensures she can call on help as needed-especially when navigating new life challenges.
URL:https://bleedingdisordersfl.org/event/build-your-support-system-in-real-life-or-online/
END:VEVENT
END:VCALENDAR