BEGIN:VCALENDAR
VERSION:2.0
PRODID:-//Bleeding Disorders Foundation of Florida - ECPv6.15.20//NONSGML v1.0//EN
CALSCALE:GREGORIAN
METHOD:PUBLISH
X-ORIGINAL-URL:https://bleedingdisordersfl.org
X-WR-CALDESC:Events for Bleeding Disorders Foundation of Florida
REFRESH-INTERVAL;VALUE=DURATION:PT1H
X-Robots-Tag:noindex
X-PUBLISHED-TTL:PT1H
BEGIN:VTIMEZONE
TZID:America/New_York
BEGIN:DAYLIGHT
TZOFFSETFROM:-0500
TZOFFSETTO:-0400
TZNAME:EDT
DTSTART:20190310T070000
END:DAYLIGHT
BEGIN:STANDARD
TZOFFSETFROM:-0400
TZOFFSETTO:-0500
TZNAME:EST
DTSTART:20191103T060000
END:STANDARD
BEGIN:DAYLIGHT
TZOFFSETFROM:-0500
TZOFFSETTO:-0400
TZNAME:EDT
DTSTART:20200308T070000
END:DAYLIGHT
BEGIN:STANDARD
TZOFFSETFROM:-0400
TZOFFSETTO:-0500
TZNAME:EST
DTSTART:20201101T060000
END:STANDARD
BEGIN:DAYLIGHT
TZOFFSETFROM:-0500
TZOFFSETTO:-0400
TZNAME:EDT
DTSTART:20210314T070000
END:DAYLIGHT
BEGIN:STANDARD
TZOFFSETFROM:-0400
TZOFFSETTO:-0500
TZNAME:EST
DTSTART:20211107T060000
END:STANDARD
END:VTIMEZONE
BEGIN:VEVENT
DTSTART;TZID=America/New_York:20201201T180000
DTEND;TZID=America/New_York:20201201T190000
DTSTAMP:20260425T001456
CREATED:20201201T155502Z
LAST-MODIFIED:20201201T155502Z
UID:8075-1606845600-1606849200@bleedingdisordersfl.org
SUMMARY:Food & Fitness
DESCRIPTION:Small changes for a healthier lifestyle. This is a virtual program.
URL:https://bleedingdisordersfl.org/event/food-fitness/
END:VEVENT
BEGIN:VEVENT
DTSTART;TZID=America/New_York:20201211T170000
DTEND;TZID=America/New_York:20201211T190000
DTSTAMP:20260425T001456
CREATED:20201201T160744Z
LAST-MODIFIED:20201201T160744Z
UID:8079-1607706000-1607713200@bleedingdisordersfl.org
SUMMARY:Teen Retreat & Pizza Dinner
DESCRIPTION:Teen Siblings included ages 13-19 only please.\nScavenger Hunt\, Games & Visual Art Self-Expression\n\nJoin us for a Pizza dinner & Virtual Interactive Program\n(we will have it delivered it to you at the beginning of the program)\n\nOnce you confirm your attendance you will receive a box of fun things and supplies that we will use during the program.\nRSVP By 12/5/2020
URL:https://bleedingdisordersfl.org/event/teen-retreat-pizza-dinner/
END:VEVENT
BEGIN:VEVENT
DTSTART;TZID=America/New_York:20201217T180000
DTEND;TZID=America/New_York:20201217T190000
DTSTAMP:20260425T001456
CREATED:20201201T155715Z
LAST-MODIFIED:20201201T155715Z
UID:8077-1608228000-1608231600@bleedingdisordersfl.org
SUMMARY:Family Bingo Night
DESCRIPTION:Family Friendly – Virtual Program\nPrizes for winners of each game\nAll kids who attend & participate will be sent a $10 Walmart gift card.
URL:https://bleedingdisordersfl.org/event/family-bingo-night/
END:VEVENT
BEGIN:VEVENT
DTSTART;TZID=America/New_York:20201224T080000
DTEND;TZID=America/New_York:20201225T170000
DTSTAMP:20260425T001456
CREATED:20201201T160958Z
LAST-MODIFIED:20201201T161138Z
UID:8081-1608796800-1608915600@bleedingdisordersfl.org
SUMMARY:Office Closed For the Holiday's
DESCRIPTION:Happy Holiday’s to all from the BDFF Staff
URL:https://bleedingdisordersfl.org/event/office-closed-for-the-holidays/
END:VEVENT
END:VCALENDAR