BEGIN:VCALENDAR
VERSION:2.0
PRODID:-//Bleeding Disorders Foundation of Florida - ECPv6.15.20//NONSGML v1.0//EN
CALSCALE:GREGORIAN
METHOD:PUBLISH
X-WR-CALNAME:Bleeding Disorders Foundation of Florida
X-ORIGINAL-URL:https://bleedingdisordersfl.org
X-WR-CALDESC:Events for Bleeding Disorders Foundation of Florida
REFRESH-INTERVAL;VALUE=DURATION:PT1H
X-Robots-Tag:noindex
X-PUBLISHED-TTL:PT1H
BEGIN:VTIMEZONE
TZID:UTC
BEGIN:STANDARD
TZOFFSETFROM:+0000
TZOFFSETTO:+0000
TZNAME:UTC
DTSTART:20190101T000000
END:STANDARD
END:VTIMEZONE
BEGIN:VEVENT
DTSTART;TZID=UTC:20200604T160000
DTEND;TZID=UTC:20200604T170000
DTSTAMP:20260425T085241
CREATED:20200522T000517Z
LAST-MODIFIED:20200603T235101Z
UID:7398-1591286400-1591290000@bleedingdisordersfl.org
SUMMARY:Exercise and Your Joints Scavenger Hunt
DESCRIPTION:Understand the importance of exercise to maintain joint health. Discuss the various types of exercise\, all exercise does not have to be strenuous. Exercise for all age groups. This online program will be led by Janelle Swartz\, RN and Nurse Educator. \nPlease RSVP By June 3\, 2020\nEmail: info@bleedingdisordersfl.org\nPhone: 800-293-6527 \nOnce you we have your RSVP you will be sent the instructions on how to login the day of the program. \nThank you to Octapharma for your support!
URL:https://bleedingdisordersfl.org/event/exercise-and-your-joints-scavenger-hunt/
CATEGORIES:Fun Stuff,Programs
END:VEVENT
BEGIN:VEVENT
DTSTART;TZID=UTC:20200611T160000
DTEND;TZID=UTC:20200611T170000
DTSTAMP:20260425T085241
CREATED:20200515T231808Z
LAST-MODIFIED:20200515T231808Z
UID:7383-1591891200-1591894800@bleedingdisordersfl.org
SUMMARY:BDCF Legislative Webinar: Understanding the Committee Structure
DESCRIPTION:The Bleeding Disorders Coalition of Florida is hosting a webinar that will help you understand the committee structure. Nathan Schaefer with the National Hemophilia Foundation will lead an interactive session and give tips on getting bills through committees and which legislators to talk about bills such as step therapy and copay accumulators. \nPlease RSVP to info@bleedingdisorderscoalitionofflorida.org by June 10th for login information. This program is supported by Takeda. \nWEBINAR WAIVER AND DISCLOSURE\nBy RSVPing to this event you hereby grant the Bleeding Disorders Foundation of Florida (BDFF)\, Florida Hemophilia Association (FHA) and the Bleeding Disorders Coalition of Florida (BDCF) permission to use your likeness in a photograph\, video\, or other digital media (“photo”) in any and all of its publications\, including web-based publications\, without payment or other consideration. This session is not being recorded. To be in compliance\, we ask people working for industry attending this online program to disclose their position and the company they work for one time at the beginning of the session. You are not obligated to share any personal information. BDFF recommends using your first initial instead of your full name when signing on.
URL:https://bleedingdisordersfl.org/event/bdcf-legislative-webinar-understanding-the-committee-structure/
CATEGORIES:Advocacy,Webinar
ATTACH;FMTTYPE=image/jpeg:https://bleedingdisordersfl.org/wp-content/uploads/97016961_10157956859676839_9112552715157766144_n.jpg
END:VEVENT
BEGIN:VEVENT
DTSTART;TZID=UTC:20200618T190000
DTEND;TZID=UTC:20200618T200000
DTSTAMP:20260425T085241
CREATED:20200515T232131Z
LAST-MODIFIED:20200618T220045Z
UID:7386-1592506800-1592510400@bleedingdisordersfl.org
SUMMARY:BDFF Star Search -- POSTPONED
DESCRIPTION:Join BDFF for an online variety show! We want YOU to get involved… sing a song\, play an instrument\, tell a joke… share your talent during this hilarious hour of heartfelt fun! Be creative with your talent\, we want to see what you can do! \nWe are looking for a limited number of 2-3 minute talent acts for this online variety show of BDFF talent. This is your time to shine! And don’t worry\, this is all happening from the comfort of your own home. \nMore info coming soon. \nContact events@bleedingdisordersfl.org if you’d like to be part of the show! \nSponsorships available. Contact leahnash@bleedingdisordersfl.org for information.
URL:https://bleedingdisordersfl.org/event/hfgf-star-search/
CATEGORIES:Fun Stuff
ATTACH;FMTTYPE=image/jpeg:https://bleedingdisordersfl.org/wp-content/uploads/97107188_10157956923086839_1760685116729851904_n.jpg
END:VEVENT
BEGIN:VEVENT
DTSTART;TZID=UTC:20200625T183000
DTEND;TZID=UTC:20200625T200000
DTSTAMP:20260425T085241
CREATED:20200618T220322Z
LAST-MODIFIED:20200618T220322Z
UID:7455-1593109800-1593115200@bleedingdisordersfl.org
SUMMARY:Sports\, Drugs & Rock N' Roll
DESCRIPTION:Mikey Berkman received a scholarship from BDFF and plays lacrosse at Syracuse.  Listen to his story and how his experiences as a severe hemophilia playing college sports. \nPlease RSVP by June 24\, 2020\nEmail: info@bleedingdisordersfl.org\nPhone: 800-293-6527 \nOnce you we have your RSVP you will be sent the instructions on how to login the day of \nWEBINAR WAIVER AND DISCLOSURE\nBy RSVPing to this event you hereby grant the Bleeding Disorders Foundation of Florida (BDFF) permission to use your likeness in a photograph\, video\, or other digital media (“photo”) in any and all of its publications\, including web-based publications\, without payment or other consideration. This session is not being recorded. To be in compliance\, we ask people working for industry attending this online program to disclose their position and the company they work for one time at the beginning of the session. You are not obligated to share any personal information.   BDFF recommends using your first initial instead of your full name when signing on. \nBrought to you by CSL Behring
URL:https://bleedingdisordersfl.org/event/sports-drugs-rock-n-roll/
CATEGORIES:Programs
END:VEVENT
END:VCALENDAR