BEGIN:VCALENDAR
VERSION:2.0
PRODID:-//Bleeding Disorders Foundation of Florida - ECPv6.15.20//NONSGML v1.0//EN
CALSCALE:GREGORIAN
METHOD:PUBLISH
X-WR-CALNAME:Bleeding Disorders Foundation of Florida
X-ORIGINAL-URL:https://bleedingdisordersfl.org
X-WR-CALDESC:Events for Bleeding Disorders Foundation of Florida
REFRESH-INTERVAL;VALUE=DURATION:PT1H
X-Robots-Tag:noindex
X-PUBLISHED-TTL:PT1H
BEGIN:VTIMEZONE
TZID:UTC
BEGIN:STANDARD
TZOFFSETFROM:+0000
TZOFFSETTO:+0000
TZNAME:UTC
DTSTART:20190101T000000
END:STANDARD
END:VTIMEZONE
BEGIN:VEVENT
DTSTART;TZID=UTC:20200501T160000
DTEND;TZID=UTC:20200501T170000
DTSTAMP:20260425T102840
CREATED:20200418T005402Z
LAST-MODIFIED:20200418T005402Z
UID:7305-1588348800-1588352400@bleedingdisordersfl.org
SUMMARY:Self-Infusion 101
DESCRIPTION:Here is your chance to join an interactive webinar and learn the basics of self-infusion \nFriday May 1\, 2020\n4:oopm \nHosted by\nLeanne Buchanan\, RN\nHemophilia Outreach Nurse \nOur Education and Outreach nurse Leanne will present a Self-Infusion 101 class. You will be able to watch all the steps and once life is back to normal one of our nurses will schedule a visit so you can practice infusing your factor. \nPlease RSVP By April 30\, 2020 \nEmail: info@bleedingdisordersfl.org \nPhone: 800-293-6527 \nOnce you we have your RSVP you will be sent the instructions on how to log in the day of the webinar. \n*By RSVPing to this event you hereby grant the Bleeding Disorders Foundation of Florida permission to use your likeness in a photograph\, video\, or other digital media (“photo”) in any and all of its publications\, including web-based publications\, without payment or other consideration.* \n 
URL:https://bleedingdisordersfl.org/event/self-infusion-101/
CATEGORIES:Programs,Webinar
END:VEVENT
BEGIN:VEVENT
DTSTART;TZID=UTC:20200505T160000
DTEND;TZID=UTC:20200505T170000
DTSTAMP:20260425T102840
CREATED:20200422T002321Z
LAST-MODIFIED:20200422T002321Z
UID:7320-1588694400-1588698000@bleedingdisordersfl.org
SUMMARY:Happy Hour En Español
DESCRIPTION:La Fundación de Hemofilia de la Gran Florida te invita a\nnuestro primer\nHappy Hour en Español\nMartes\, Cinco de Mayo\, 2020 a las 4 p.m.\n\nNuestro tema de discusion:\nActivando A Nuestra Comunidad Hispana\n\nRSVP a info@bleedingdisordersfl.org para recibir instrucciones de como conectarte\n\nBebidas opcionales ?. Te esperamos!\n\nThe Bleeding Disorders Foundation of Florida invites you to\nour first\nHappy Hour in Spanish\nTuesday\, May 5th\, 2020 at 4 p.m.\n\nOur topic of discussion:\nEngaging our Hispanic Community\n\nRSVP to info@bleedingdisordersfl.org to receive instructions on how to connect\n\nDrinks optional ?. We hope to see you there!
URL:https://bleedingdisordersfl.org/event/happy-hour-en-espanol/
CATEGORIES:Fun Stuff
END:VEVENT
BEGIN:VEVENT
DTSTART;TZID=UTC:20200507T160000
DTEND;TZID=UTC:20200507T170000
DTSTAMP:20260425T102840
CREATED:20200413T213020Z
LAST-MODIFIED:20200413T213020Z
UID:7280-1588867200-1588870800@bleedingdisordersfl.org
SUMMARY:BDFF Teen Talk
DESCRIPTION:Hey Teens! How are you dealing with COVID-19? We want to give you a safe space to chat about how you’re feeling through all of this. Do you like distance learning? Do you miss your friends? What do you miss most about life before COVID-19? \nBDFF’s very own Natalie Rubin will be leading this talk. Natalie has been part of the BDFF community throughout middle and high school. She gets what it’s like to live with a bleeding disorder as a teen. \nRSVP to info@bleedingdisordersfl.org for log in information. \nBy RSVPing for this event\, you are allowing BDFF to use your image/likeness in BDFF promotions and outlets such as the BDFF website\, Facebook/Twitter/Instagram pages\, etc.
URL:https://bleedingdisordersfl.org/event/hfgf-teen-talk/
CATEGORIES:Fun Stuff,Webinar
ATTACH;FMTTYPE=image/jpeg:https://bleedingdisordersfl.org/wp-content/uploads/93365721_10157852433876839_8123290217810493440_n.jpg
END:VEVENT
BEGIN:VEVENT
DTSTART;TZID=UTC:20200514T160000
DTEND;TZID=UTC:20200514T170000
DTSTAMP:20260425T102840
CREATED:20200422T002432Z
LAST-MODIFIED:20200422T002432Z
UID:7322-1589472000-1589475600@bleedingdisordersfl.org
SUMMARY:Happy Hour
DESCRIPTION:
URL:https://bleedingdisordersfl.org/event/happy-hour/
CATEGORIES:Fun Stuff
END:VEVENT
BEGIN:VEVENT
DTSTART;TZID=UTC:20200521T190000
DTEND;TZID=UTC:20200521T203000
DTSTAMP:20260425T102840
CREATED:20200515T231051Z
LAST-MODIFIED:20200515T231051Z
UID:7380-1590087600-1590093000@bleedingdisordersfl.org
SUMMARY:BDFF Family Trivia Night
DESCRIPTION:BDFF is hosting another fun trivia night with your favorite trivia master\, Curtis Earth! RSVP to info@bleedingdisordersfl.org for login information.
URL:https://bleedingdisordersfl.org/event/hfgf-family-trivia-night/
CATEGORIES:Fun Stuff
ATTACH;FMTTYPE=image/jpeg:https://bleedingdisordersfl.org/wp-content/uploads/96611337_10157953099441839_4535135158453403648_n.jpg
END:VEVENT
END:VCALENDAR