BEGIN:VCALENDAR
VERSION:2.0
PRODID:-//Bleeding Disorders Foundation of Florida - ECPv6.15.20//NONSGML v1.0//EN
CALSCALE:GREGORIAN
METHOD:PUBLISH
X-ORIGINAL-URL:https://bleedingdisordersfl.org
X-WR-CALDESC:Events for Bleeding Disorders Foundation of Florida
REFRESH-INTERVAL;VALUE=DURATION:PT1H
X-Robots-Tag:noindex
X-PUBLISHED-TTL:PT1H
BEGIN:VTIMEZONE
TZID:UTC
BEGIN:STANDARD
TZOFFSETFROM:+0000
TZOFFSETTO:+0000
TZNAME:UTC
DTSTART:20180101T000000
END:STANDARD
END:VTIMEZONE
BEGIN:VEVENT
DTSTART;TZID=UTC:20191012T070000
DTEND;TZID=UTC:20191012T113000
DTSTAMP:20260425T212206
CREATED:20190912T000012Z
LAST-MODIFIED:20190912T000012Z
UID:6630-1570863600-1570879800@bleedingdisordersfl.org
SUMMARY:2019 Jacksonville Creepy Crawl 5k & Vampire Mile
DESCRIPTION:Boo! Are you ready to creepy crawl in Jacksonville for bleeding disorders? BDFF is hauntingly hosting a 5K and Halloween party! If you don’t want to do the creepy crawl 5K\, you can also do a fun walk instead. \nRegistration link is below. We encourage team registrations and fundraising! \nWhen: Oct. 12\, 2019\nWhere: Nocatee Community\, 245 Nocatee Center Way\, Ponte Vedra\, Fl 32081 \nOnline registration available through 10/11. \nOnsite registration begins at 7 am\n5K Creepy Crawl begins at 8 am\nWalkers leave after 5K Creepy Crawlers take off \nPlease wear costumes… awards will be given out for best costumes and top fundraisers! \nRegister now at https://secure.qgiv.com/event/942400/
URL:https://bleedingdisordersfl.org/event/2019-jacksonville-creepy-crawl-5k-vampire-mile/
LOCATION:Nocatee Community\, 245 Nocatee Center Way\, Ponte Vedra\, FL\, 32081\, United States
ATTACH;FMTTYPE=image/png:https://bleedingdisordersfl.org/wp-content/uploads/CreepyCrawllogo-nolocation-1.png
END:VEVENT
BEGIN:VEVENT
DTSTART;TZID=UTC:20191026T160000
DTEND;TZID=UTC:20191026T193000
DTSTAMP:20260425T212206
CREATED:20190912T001047Z
LAST-MODIFIED:20190912T001047Z
UID:6635-1572105600-1572118200@bleedingdisordersfl.org
SUMMARY:2019 Orlando Creepy Crawl 5K & Vampire Mile
DESCRIPTION:Boo! We are creepy crawling again in Orlando for bleeding disorders! Register for the 5K or the fun walk… either way will be fang-tastic amounts of fun! \nAfter the Creepy Crawl\, stay for an awards ceremony and Halloween Party. \nOnline registration is open now!
URL:https://bleedingdisordersfl.org/event/2019-orlando-creepy-crawl-5k-vampire-mile/
LOCATION:Harbor Park at Lake Baldwin\, 4990 New Broad Street\, Orlando\, FL\, 32814\, United States
ATTACH;FMTTYPE=image/png:https://bleedingdisordersfl.org/wp-content/uploads/CreepyCrawllogo-nolocation-1.png
END:VEVENT
BEGIN:VEVENT
DTSTART;TZID=UTC:20191028T093000
DTEND;TZID=UTC:20191028T173000
DTSTAMP:20260425T212206
CREATED:20190912T002730Z
LAST-MODIFIED:20190912T002730Z
UID:6641-1572255000-1572283800@bleedingdisordersfl.org
SUMMARY:23rd Annual Flight For Tomorrow Golf Tournament
DESCRIPTION:This fundraising event benefits the Bleeding Disorders Foundation of Florida. \nSCHEDULE OF EVENTS\n9:30 a.m. Open Registration\n10:30 a.m. Lunch\n12:00 p.m. Shotgun Start \nSponsorships available. One individual golfer is $200.
URL:https://bleedingdisordersfl.org/event/23rd-annual-flight-for-tomorrow-golf-tournament/
LOCATION:Ardea Country Club\, 1055 E Lake Woodlands Pkwy\, Oldsmar\, FL\, 34677\, United States
CATEGORIES:Programs
END:VEVENT
END:VCALENDAR