BEGIN:VCALENDAR
VERSION:2.0
PRODID:-//Bleeding Disorders Foundation of Florida - ECPv6.15.20//NONSGML v1.0//EN
CALSCALE:GREGORIAN
METHOD:PUBLISH
X-ORIGINAL-URL:https://bleedingdisordersfl.org
X-WR-CALDESC:Events for Bleeding Disorders Foundation of Florida
REFRESH-INTERVAL;VALUE=DURATION:PT1H
X-Robots-Tag:noindex
X-PUBLISHED-TTL:PT1H
BEGIN:VTIMEZONE
TZID:UTC
BEGIN:STANDARD
TZOFFSETFROM:+0000
TZOFFSETTO:+0000
TZNAME:UTC
DTSTART:20190101T000000
END:STANDARD
END:VTIMEZONE
BEGIN:VEVENT
DTSTART;TZID=UTC:20200429T140000
DTEND;TZID=UTC:20200429T150000
DTSTAMP:20260422T131941
CREATED:20200318T224910Z
LAST-MODIFIED:20200318T224910Z
UID:7202-1588168800-1588172400@bleedingdisordersfl.org
SUMMARY:Step Therapy Webinar
DESCRIPTION:At this webinar\, we will discuss what step therapy is and how it affects the bleeding disorders community. Mark Hobraczk with the Hemophilia Federation of America will lead this discussion and answer questions. \nWe will also have a patient in the webinar with us to tell her story and give tips on how to push this issue forward for the 2021 Florida legislative session. \nPlease RSVP to info@bleedingdisorderscoalitionofflorida.org for the log in information. \nThis is a great way for you to become an advocate for yourself and the bleeding disorders community of Florida!
URL:https://bleedingdisordersfl.org/event/step-therapy-webinar/
CATEGORIES:Programs,Webinar
END:VEVENT
END:VCALENDAR