BEGIN:VCALENDAR
VERSION:2.0
PRODID:-//Bleeding Disorders Foundation of Florida - ECPv6.15.20//NONSGML v1.0//EN
CALSCALE:GREGORIAN
METHOD:PUBLISH
X-WR-CALNAME:Bleeding Disorders Foundation of Florida
X-ORIGINAL-URL:https://bleedingdisordersfl.org
X-WR-CALDESC:Events for Bleeding Disorders Foundation of Florida
REFRESH-INTERVAL;VALUE=DURATION:PT1H
X-Robots-Tag:noindex
X-PUBLISHED-TTL:PT1H
BEGIN:VTIMEZONE
TZID:America/New_York
BEGIN:DAYLIGHT
TZOFFSETFROM:-0500
TZOFFSETTO:-0400
TZNAME:EDT
DTSTART:20210314T070000
END:DAYLIGHT
BEGIN:STANDARD
TZOFFSETFROM:-0400
TZOFFSETTO:-0500
TZNAME:EST
DTSTART:20211107T060000
END:STANDARD
BEGIN:DAYLIGHT
TZOFFSETFROM:-0500
TZOFFSETTO:-0400
TZNAME:EDT
DTSTART:20220313T070000
END:DAYLIGHT
BEGIN:STANDARD
TZOFFSETFROM:-0400
TZOFFSETTO:-0500
TZNAME:EST
DTSTART:20221106T060000
END:STANDARD
BEGIN:DAYLIGHT
TZOFFSETFROM:-0500
TZOFFSETTO:-0400
TZNAME:EDT
DTSTART:20230312T070000
END:DAYLIGHT
BEGIN:STANDARD
TZOFFSETFROM:-0400
TZOFFSETTO:-0500
TZNAME:EST
DTSTART:20231105T060000
END:STANDARD
END:VTIMEZONE
BEGIN:VEVENT
DTSTART;TZID=America/New_York:20220909T180000
DTEND;TZID=America/New_York:20220909T210000
DTSTAMP:20260422T182434
CREATED:20220808T212703Z
LAST-MODIFIED:20220808T212723Z
UID:10650-1662746400-1662757200@bleedingdisordersfl.org
SUMMARY:PUSHING THROUGH WITH POSITIVITY
DESCRIPTION:JOIN US FOR A SPECIAL FAMILY DINNER PROGRAM \nPUSHING THROUGH WITH POSITIVITY  \nPresented By  \nPete D\nCommon Factors Advocate (Baseball/Basketball) \nFriday\, September 9\, 2022  \n6:15 pm  \nExploria Stadium  \n655 W Church St\, \nOrlando\, FL 32805 \nEntrance at Gate A \nNo Strollers – No Bags \nParking not included \n  \nAfter the program you will see the Women’s Soccer Game of the Season \nOrlando Pride v Portland Thorns  \n(The Game Begins at 7:00 pm) \nScoreboard Deck \nPrivate Game Viewing
URL:https://bleedingdisordersfl.org/event/pushing-through-with-positivity/
LOCATION:Exploria Stadium\, 655 W Church St\,\, Orlando\, FL\, 32805\, United States
CATEGORIES:Programs
END:VEVENT
END:VCALENDAR