BEGIN:VCALENDAR
VERSION:2.0
PRODID:-//Bleeding Disorders Foundation of Florida - ECPv6.15.20//NONSGML v1.0//EN
CALSCALE:GREGORIAN
METHOD:PUBLISH
X-ORIGINAL-URL:https://bleedingdisordersfl.org
X-WR-CALDESC:Events for Bleeding Disorders Foundation of Florida
REFRESH-INTERVAL;VALUE=DURATION:PT1H
X-Robots-Tag:noindex
X-PUBLISHED-TTL:PT1H
BEGIN:VTIMEZONE
TZID:UTC
BEGIN:STANDARD
TZOFFSETFROM:+0000
TZOFFSETTO:+0000
TZNAME:UTC
DTSTART:20190101T000000
END:STANDARD
END:VTIMEZONE
BEGIN:VEVENT
DTSTART;VALUE=DATE:20200123
DTEND;VALUE=DATE:20200501
DTSTAMP:20260424T204933
CREATED:20200124T003806Z
LAST-MODIFIED:20200124T003913Z
UID:6967-1579737600-1588291199@bleedingdisordersfl.org
SUMMARY:BDFF CALVIN DAWSON MEMORIAL SCHOLARSHIP APPLICATIONS OPEN
DESCRIPTION:Amount: Number and amount of scholarships varies \nCandidate: Florida residents with bleeding disorders attending a college\, university or trade school. \nDeadline: April 30\, 2020 \nContact: Bleeding Disorders Foundation of Florida 1350 Orange Ave\, Suite 227 Winter Park FL 32789\n(800)293-6527\n(407)629-0000\nFax: (407) 629-9600 \n\nClick here for the 2020 scholarship application.
URL:https://bleedingdisordersfl.org/event/hfgf-calvin-dawson-memorial-scholarship-applications-open/
LOCATION:FL
CATEGORIES:Programs,Scholarships
END:VEVENT
BEGIN:VEVENT
DTSTART;TZID=UTC:20200201T180000
DTEND;TZID=UTC:20200201T220000
DTSTAMP:20260424T204933
CREATED:20190918T233922Z
LAST-MODIFIED:20190920T224116Z
UID:6695-1580580000-1580594400@bleedingdisordersfl.org
SUMMARY:18th Annual Evening on Broadway
DESCRIPTION:Come spend an evening in Agrabah and be a REAL genie and grant some kids (summer camp) wishes!I \nBDFF is pleased to host the 18th Annual Evening on Broadway\, one of our most popular fundraisers! This event includes a reception with light h’oeuvres\, a silent auction and raffle\, and orchestra seating to the broadway show of Disney’s Aladdin. \nWhen you purchase tickets to events like the 18th Annual Evening on Broadway\, 89% of each dollars goes back to supporting the bleeding disorders community in Florida by funding Camp Spirit scholarships\, emergency financial assistance\, educational programming\, scholarships\, MedicAlert memberships\, helmets\, and more. \nLink to purchase tickets coming soon. Mark your calendars now!
URL:https://bleedingdisordersfl.org/event/18th-annual-evening-on-broadway/
LOCATION:Dr. Phillips Center for the Performing Arts\, 445 S. Magnolia Ave.\, Orlando\, FL\, 32801\, United States
CATEGORIES:Programs
ATTACH;FMTTYPE=image/jpeg:https://bleedingdisordersfl.org/wp-content/uploads/68413259_10157150588296839_4007575336119173120_n.jpg
END:VEVENT
BEGIN:VEVENT
DTSTART;TZID=UTC:20200221T171500
DTEND;TZID=UTC:20200221T220000
DTSTAMP:20260424T204933
CREATED:20200129T000745Z
LAST-MODIFIED:20200129T000745Z
UID:6980-1582305300-1582322400@bleedingdisordersfl.org
SUMMARY:Special Program: Pushing Through Life's Challenges
DESCRIPTION:Please join the Bleeding Disorders Foundation of Florida\nfor a very special family event and dinner \nPUSHING THROUGH LIFE’S CHALLENGES\nPresented by Seth Rojhani\nFriday February 21\, 2019\n5:15 p.m.\n(please be on time for this great program) \nAmway Center\n400 West Church Street #200\nOrlando\, FL 32801 \nAfter the program enjoy the game of the season\nOrlando Magic vs Dallas Mavericks! \nEntrance Details \nAttendees will enter through the Administration Entrance\,\nwhich is located to left of the Magic Team Shop on the corner of  S. Hughey Ave. and Church St.\nThe program will be in the Amway Center’s Bank United Vault Room.\nYou will be escorted to the program by Magic staff. \nBackpack & bags larger than 14 in. x 14 in. x 6 in are prohibited \nRSVP by February 19\, 2019\n1-800-293-6527 or info@bleedingdisordersfl.org \nTickets are limited & are available on a first come\, first served basis\n(for immediate family members only\, please).\n The program must be attended to receive tickets. \nThis program is supported by Octapharma.
URL:https://bleedingdisordersfl.org/event/special-program-pushing-through-lifes-challenges/
LOCATION:FL
CATEGORIES:Programs
END:VEVENT
END:VCALENDAR