BEGIN:VCALENDAR
VERSION:2.0
PRODID:-//Bleeding Disorders Foundation of Florida - ECPv6.15.20//NONSGML v1.0//EN
CALSCALE:GREGORIAN
METHOD:PUBLISH
X-WR-CALNAME:Bleeding Disorders Foundation of Florida
X-ORIGINAL-URL:https://bleedingdisordersfl.org
X-WR-CALDESC:Events for Bleeding Disorders Foundation of Florida
REFRESH-INTERVAL;VALUE=DURATION:PT1H
X-Robots-Tag:noindex
X-PUBLISHED-TTL:PT1H
BEGIN:VTIMEZONE
TZID:America/New_York
BEGIN:DAYLIGHT
TZOFFSETFROM:-0500
TZOFFSETTO:-0400
TZNAME:EDT
DTSTART:20230312T070000
END:DAYLIGHT
BEGIN:STANDARD
TZOFFSETFROM:-0400
TZOFFSETTO:-0500
TZNAME:EST
DTSTART:20231105T060000
END:STANDARD
BEGIN:DAYLIGHT
TZOFFSETFROM:-0500
TZOFFSETTO:-0400
TZNAME:EDT
DTSTART:20240310T070000
END:DAYLIGHT
BEGIN:STANDARD
TZOFFSETFROM:-0400
TZOFFSETTO:-0500
TZNAME:EST
DTSTART:20241103T060000
END:STANDARD
BEGIN:DAYLIGHT
TZOFFSETFROM:-0500
TZOFFSETTO:-0400
TZNAME:EDT
DTSTART:20250309T070000
END:DAYLIGHT
BEGIN:STANDARD
TZOFFSETFROM:-0400
TZOFFSETTO:-0500
TZNAME:EST
DTSTART:20251102T060000
END:STANDARD
END:VTIMEZONE
BEGIN:VEVENT
DTSTART;TZID=America/New_York:20240406T080000
DTEND;TZID=America/New_York:20240406T113000
DTSTAMP:20260423T032852
CREATED:20231214T183641Z
LAST-MODIFIED:20231214T183828Z
UID:12179-1712390400-1712403000@bleedingdisordersfl.org
SUMMARY:13th Annual Gator Clot Trot 5K Run & Walk
DESCRIPTION:Join us on April 6th for the 13th Annual Gator Clot Trot 5K Run & Walk at Sante Fe College\, 3000 NW 83rd Street\, Gainesville\, FL 32606. Registration starts at 8AM\, and the Run/Walk will begin at 9AM!
URL:https://bleedingdisordersfl.org/event/13th-annual-gator-clot-trot-5k-run-walk/
LOCATION:Sante Fe College\, 3000 NW 83rd Street (39th St NW Field)\, Gainesville\, FL\, 32606\, United States
CATEGORIES:Fun Stuff,Fundraising,Walks/5K
END:VEVENT
BEGIN:VEVENT
DTSTART;TZID=America/New_York:20240921T090000
DTEND;TZID=America/New_York:20240921T120000
DTSTAMP:20260423T032852
CREATED:20240314T172846Z
LAST-MODIFIED:20240314T173049Z
UID:12596-1726909200-1726920000@bleedingdisordersfl.org
SUMMARY:17th annual Superhero Fun Walk
DESCRIPTION:Join the Bleeding Disorders Foundation of Florida for fun\, food\, games\, and more at the 17th annual Superhero Fun Walk on September 21\, 2024 from 9AM-12PM at Vinoy Park\, 701 Bayshore Drive NE St. Petersburg\, FL 33701!
URL:https://bleedingdisordersfl.org/event/17th-annual-superhero-fun-walk/
LOCATION:Vinoy Park\, 701 Bayshore Drive N.E.\, St. Petersburg\, FL\, 33701\, United States
CATEGORIES:Fun Stuff,Fundraising,Walks/5K
END:VEVENT
BEGIN:VEVENT
DTSTART;TZID=America/New_York:20241026T160000
DTEND;TZID=America/New_York:20241026T190000
DTSTAMP:20260423T032852
CREATED:20240314T180119Z
LAST-MODIFIED:20240314T180119Z
UID:12600-1729958400-1729969200@bleedingdisordersfl.org
SUMMARY:18th annual Orlando Creepy Crawl 5k & Fun Walk
DESCRIPTION:Join us in the fun at the 18th annual Creepy Crawl 5k Run & Fun Walk on October 26th at Harbor Park\, 4990 New Broad Street Orlando\, FL from 4-7PM!
URL:https://bleedingdisordersfl.org/event/18th-annual-orlando-creepy-crawl-5k-fun-walk/
LOCATION:Harbor Park at Lake Baldwin\, 4990 New Broad Street\, Orlando\, FL\, 32814\, United States
CATEGORIES:Fun Stuff,Fundraising,Walks/5K
END:VEVENT
END:VCALENDAR