BEGIN:VCALENDAR
VERSION:2.0
PRODID:-//Bleeding Disorders Foundation of Florida - ECPv6.15.20//NONSGML v1.0//EN
CALSCALE:GREGORIAN
METHOD:PUBLISH
X-ORIGINAL-URL:https://bleedingdisordersfl.org
X-WR-CALDESC:Events for Bleeding Disorders Foundation of Florida
REFRESH-INTERVAL;VALUE=DURATION:PT1H
X-Robots-Tag:noindex
X-PUBLISHED-TTL:PT1H
BEGIN:VTIMEZONE
TZID:UTC
BEGIN:STANDARD
TZOFFSETFROM:+0000
TZOFFSETTO:+0000
TZNAME:UTC
DTSTART:20190101T000000
END:STANDARD
END:VTIMEZONE
BEGIN:VEVENT
DTSTART;TZID=UTC:20201114T160000
DTEND;TZID=UTC:20201114T170000
DTSTAMP:20260421T214115
CREATED:20200702T235411Z
LAST-MODIFIED:20200821T222245Z
UID:7484-1605369600-1605373200@bleedingdisordersfl.org
SUMMARY:Tampa Superhero Fun Virtual Walk
DESCRIPTION:
URL:https://bleedingdisordersfl.org/event/tampa-superhero-fun-virtual-walk/
LOCATION:FL
CATEGORIES:Fun Stuff,Fundraising,Walks/5K
END:VEVENT
END:VCALENDAR