BEGIN:VCALENDAR
VERSION:2.0
PRODID:-//Bleeding Disorders Foundation of Florida - ECPv6.15.20//NONSGML v1.0//EN
CALSCALE:GREGORIAN
METHOD:PUBLISH
X-ORIGINAL-URL:https://bleedingdisordersfl.org
X-WR-CALDESC:Events for Bleeding Disorders Foundation of Florida
REFRESH-INTERVAL;VALUE=DURATION:PT1H
X-Robots-Tag:noindex
X-PUBLISHED-TTL:PT1H
BEGIN:VTIMEZONE
TZID:UTC
BEGIN:STANDARD
TZOFFSETFROM:+0000
TZOFFSETTO:+0000
TZNAME:UTC
DTSTART:20190101T000000
END:STANDARD
END:VTIMEZONE
BEGIN:VEVENT
DTSTART;TZID=UTC:20201024T170000
DTEND;TZID=UTC:20201024T180000
DTSTAMP:20260421T214036
CREATED:20200702T235607Z
LAST-MODIFIED:20200821T222256Z
UID:7488-1603558800-1603562400@bleedingdisordersfl.org
SUMMARY:Orlando Virtual Creepy Crawl
DESCRIPTION:Virtual Walk!
URL:https://bleedingdisordersfl.org/event/orlando-virtual-creepy-crawl/
LOCATION:FL
CATEGORIES:Fun Stuff,Fundraising,Walks/5K
END:VEVENT
END:VCALENDAR