BEGIN:VCALENDAR
VERSION:2.0
PRODID:-//Bleeding Disorders Foundation of Florida - ECPv6.15.20//NONSGML v1.0//EN
CALSCALE:GREGORIAN
METHOD:PUBLISH
X-WR-CALNAME:Bleeding Disorders Foundation of Florida
X-ORIGINAL-URL:https://bleedingdisordersfl.org
X-WR-CALDESC:Events for Bleeding Disorders Foundation of Florida
REFRESH-INTERVAL;VALUE=DURATION:PT1H
X-Robots-Tag:noindex
X-PUBLISHED-TTL:PT1H
BEGIN:VTIMEZONE
TZID:UTC
BEGIN:STANDARD
TZOFFSETFROM:+0000
TZOFFSETTO:+0000
TZNAME:UTC
DTSTART:20190101T000000
END:STANDARD
END:VTIMEZONE
BEGIN:VEVENT
DTSTART;TZID=UTC:20200226T180000
DTEND;TZID=UTC:20200226T210000
DTSTAMP:20260422T100451
CREATED:20200211T014053Z
LAST-MODIFIED:20200211T014053Z
UID:7117-1582740000-1582750800@bleedingdisordersfl.org
SUMMARY:Gainesville Blaze Pizza Fundraiser
DESCRIPTION:
URL:https://bleedingdisordersfl.org/event/gainesville-blaze-pizza-fundraiser/
LOCATION:Blaze Pizza– Archer\, 3617 SW Archer Rd\, Gainesville\, FL\, 32608\, United States
CATEGORIES:Fundraising
END:VEVENT
END:VCALENDAR