BEGIN:VCALENDAR
VERSION:2.0
PRODID:-//Bleeding Disorders Foundation of Florida - ECPv6.15.20//NONSGML v1.0//EN
CALSCALE:GREGORIAN
METHOD:PUBLISH
X-ORIGINAL-URL:https://bleedingdisordersfl.org
X-WR-CALDESC:Events for Bleeding Disorders Foundation of Florida
REFRESH-INTERVAL;VALUE=DURATION:PT1H
X-Robots-Tag:noindex
X-PUBLISHED-TTL:PT1H
BEGIN:VTIMEZONE
TZID:UTC
BEGIN:STANDARD
TZOFFSETFROM:+0000
TZOFFSETTO:+0000
TZNAME:UTC
DTSTART:20180101T000000
END:STANDARD
END:VTIMEZONE
BEGIN:VEVENT
DTSTART;TZID=UTC:20191105T173000
DTEND;TZID=UTC:20191106T203000
DTSTAMP:20260422T133720
CREATED:20190913T233744Z
LAST-MODIFIED:20190918T232117Z
UID:6679-1572975000-1573072200@bleedingdisordersfl.org
SUMMARY:BDFF Fundraiser at Wing Shack
DESCRIPTION:Orlando! Eat at Wing Shack and BDFF gets a portion of the proceeds! \nWhen: Nov. 5th at 5:30 pm – Nov. 6th at 8:30 pm\nWhere: Wing Shack\, 4650 E. Michigan St.\, Orlando\, Fl 32812
URL:https://bleedingdisordersfl.org/event/hfgf-fundraiser-at-wing-shack/
LOCATION:Wing Shack\, 4650 E. Michigan St.\, Orlando\, FL\, 32812\, United States
CATEGORIES:Fundraising
ATTACH;FMTTYPE=image/jpeg:https://bleedingdisordersfl.org/wp-content/uploads/66898113_10157100450721839_3037058476938362880_n.jpg
END:VEVENT
END:VCALENDAR