BEGIN:VCALENDAR
VERSION:2.0
PRODID:-//Bleeding Disorders Foundation of Florida - ECPv6.15.20//NONSGML v1.0//EN
CALSCALE:GREGORIAN
METHOD:PUBLISH
X-ORIGINAL-URL:https://bleedingdisordersfl.org
X-WR-CALDESC:Events for Bleeding Disorders Foundation of Florida
REFRESH-INTERVAL;VALUE=DURATION:PT1H
X-Robots-Tag:noindex
X-PUBLISHED-TTL:PT1H
BEGIN:VTIMEZONE
TZID:UTC
BEGIN:STANDARD
TZOFFSETFROM:+0000
TZOFFSETTO:+0000
TZNAME:UTC
DTSTART:20190101T000000
END:STANDARD
END:VTIMEZONE
BEGIN:VEVENT
DTSTART;TZID=UTC:20200211T183000
DTEND;TZID=UTC:20200211T200000
DTSTAMP:20260423T143109
CREATED:20200131T025342Z
LAST-MODIFIED:20200131T025342Z
UID:6999-1581445800-1581451200@bleedingdisordersfl.org
SUMMARY:Legislative Webinar
DESCRIPTION:Informative and interactive webinar about BDCF 2020 legislative priorities. At this webinar\, you will learn about BDCF bills and how to communicate with your legislators about them. This webinar is for anyone who wants to be able to speak on behalf of the bleeding disorders community either at BDCF Legislative Days or on your own. \nRSVP to info@bleedingdisorderscoaltionofflorida and you will receive log in information. \n 
URL:https://bleedingdisordersfl.org/event/legislative-webinar/
CATEGORIES:Advocacy
END:VEVENT
BEGIN:VEVENT
DTSTART;TZID=UTC:20200218T080000
DTEND;TZID=UTC:20200219T210000
DTSTAMP:20260423T143109
CREATED:20200114T024836Z
LAST-MODIFIED:20200114T024836Z
UID:6932-1582012800-1582146000@bleedingdisordersfl.org
SUMMARY:2020 Advocacy Days
DESCRIPTION:Join the Bleeding Disorders Foundation of Florida and the Bleeding Disorders Coalition of Florida in Tallahassee as we advocate for the bleeding disorders community.
URL:https://bleedingdisordersfl.org/event/2020-advocacy-days/
CATEGORIES:Advocacy
END:VEVENT
END:VCALENDAR