BEGIN:VCALENDAR
VERSION:2.0
PRODID:-//Bleeding Disorders Foundation of Florida - ECPv6.15.20//NONSGML v1.0//EN
CALSCALE:GREGORIAN
METHOD:PUBLISH
X-ORIGINAL-URL:https://bleedingdisordersfl.org
X-WR-CALDESC:Events for Bleeding Disorders Foundation of Florida
REFRESH-INTERVAL;VALUE=DURATION:PT1H
X-Robots-Tag:noindex
X-PUBLISHED-TTL:PT1H
BEGIN:VTIMEZONE
TZID:America/New_York
BEGIN:DAYLIGHT
TZOFFSETFROM:-0500
TZOFFSETTO:-0400
TZNAME:EDT
DTSTART:20220313T070000
END:DAYLIGHT
BEGIN:STANDARD
TZOFFSETFROM:-0400
TZOFFSETTO:-0500
TZNAME:EST
DTSTART:20221106T060000
END:STANDARD
BEGIN:DAYLIGHT
TZOFFSETFROM:-0500
TZOFFSETTO:-0400
TZNAME:EDT
DTSTART:20230312T070000
END:DAYLIGHT
BEGIN:STANDARD
TZOFFSETFROM:-0400
TZOFFSETTO:-0500
TZNAME:EST
DTSTART:20231105T060000
END:STANDARD
BEGIN:DAYLIGHT
TZOFFSETFROM:-0500
TZOFFSETTO:-0400
TZNAME:EDT
DTSTART:20240310T070000
END:DAYLIGHT
BEGIN:STANDARD
TZOFFSETFROM:-0400
TZOFFSETTO:-0500
TZNAME:EST
DTSTART:20241103T060000
END:STANDARD
END:VTIMEZONE
BEGIN:VEVENT
DTSTART;TZID=America/New_York:20231118T110000
DTEND;TZID=America/New_York:20231118T143000
DTSTAMP:20260420T232457
CREATED:20231017T160710Z
LAST-MODIFIED:20231017T160751Z
UID:11977-1700305200-1700317800@bleedingdisordersfl.org
SUMMARY:Miami Program: Fun\, Food\, and Football!
DESCRIPTION:Fun\, Food\, and Football \nSaturday\, November 18\, 2023 \n11:00 am \nProgram time may change. \ndue to the UM Football Schedule\, we will keep you posted. \nPresented by \nDr. Kelli A Fraga \nPhysical Therapist \nUniversity of Miami Miller School of Medicine \nThe program includes a fun program\, \ndelicious brunch\, and tickets to \nthe game of the season! \n\n\n\n\n\n\n\n\n\n\n\n\n\n\n\n\nat \nMiami Lakes Hotel and Golf Club \n6842 Main Street \nMiami Lakes\, FL 33014 \n\n\n\n\n\n\n\n\n\n\n\n\n\n\n\n\n\n\n\n\n\n\n\n\n\n\n\n\n\n\n\n\n\n\n\n\n\n\n\n\n\n\n\n\n\n\n\n\n\n\n\n\n\n\n\nR.S.V.P. by November 13\, 2023 \n1-800-293-6527 \ninfo@bleedingdisordersfl.org \nSpace to the game is VERY limited \n\n\n\n\n\n\n\n\n\n\n\n\n\n\n\n\n\n\nTHIS PROGRAM IS SPONSORED BY
URL:https://bleedingdisordersfl.org/event/miami-program-fun-food-and-football/
LOCATION:Miami Lakes Hotel and Golf Club\, 6842 Main Street\, Miami Lakes\, FL\, 33014\, United States
CATEGORIES:Fun Stuff,Programs
END:VEVENT
END:VCALENDAR