BEGIN:VCALENDAR
VERSION:2.0
PRODID:-//Bleeding Disorders Foundation of Florida - ECPv6.15.20//NONSGML v1.0//EN
CALSCALE:GREGORIAN
METHOD:PUBLISH
X-ORIGINAL-URL:https://bleedingdisordersfl.org
X-WR-CALDESC:Events for Bleeding Disorders Foundation of Florida
REFRESH-INTERVAL;VALUE=DURATION:PT1H
X-Robots-Tag:noindex
X-PUBLISHED-TTL:PT1H
BEGIN:VTIMEZONE
TZID:America/New_York
BEGIN:DAYLIGHT
TZOFFSETFROM:-0500
TZOFFSETTO:-0400
TZNAME:EDT
DTSTART:20220313T070000
END:DAYLIGHT
BEGIN:STANDARD
TZOFFSETFROM:-0400
TZOFFSETTO:-0500
TZNAME:EST
DTSTART:20221106T060000
END:STANDARD
BEGIN:DAYLIGHT
TZOFFSETFROM:-0500
TZOFFSETTO:-0400
TZNAME:EDT
DTSTART:20230312T070000
END:DAYLIGHT
BEGIN:STANDARD
TZOFFSETFROM:-0400
TZOFFSETTO:-0500
TZNAME:EST
DTSTART:20231105T060000
END:STANDARD
BEGIN:DAYLIGHT
TZOFFSETFROM:-0500
TZOFFSETTO:-0400
TZNAME:EDT
DTSTART:20240310T070000
END:DAYLIGHT
BEGIN:STANDARD
TZOFFSETFROM:-0400
TZOFFSETTO:-0500
TZNAME:EST
DTSTART:20241103T060000
END:STANDARD
END:VTIMEZONE
BEGIN:VEVENT
DTSTART;TZID=America/New_York:20230422T110000
DTEND;TZID=America/New_York:20230422T130000
DTSTAMP:20260421T115226
CREATED:20230331T154208Z
LAST-MODIFIED:20230331T154208Z
UID:11426-1682161200-1682168400@bleedingdisordersfl.org
SUMMARY:Women's Tea - Tampa
DESCRIPTION:Join us for a Ladies Tea Luncheon\n\nSharing the most updated information about\nWomen and Bleeding Disorders\n\nPresented by\n\nErin Cockrell\, DO\n Director\nSt. Joseph’s Hospital\nCenter for Bleeding and Clotting Disorders\n\nSaturday\, April 22\, 2023\n11:00 am\n\nRusty Pelican\n2425 N Rocky Point Drive\nTampa\, FL 33607
URL:https://bleedingdisordersfl.org/event/womens-tea-tampa/
LOCATION:Rusty Pelican\, 2425 N Rocky Point Drive\, Tampa\, FL\, 33607\, United States
END:VEVENT
END:VCALENDAR