BEGIN:VCALENDAR
VERSION:2.0
PRODID:-//Bleeding Disorders Foundation of Florida - ECPv6.15.20//NONSGML v1.0//EN
CALSCALE:GREGORIAN
METHOD:PUBLISH
X-WR-CALNAME:Bleeding Disorders Foundation of Florida
X-ORIGINAL-URL:https://bleedingdisordersfl.org
X-WR-CALDESC:Events for Bleeding Disorders Foundation of Florida
REFRESH-INTERVAL;VALUE=DURATION:PT1H
X-Robots-Tag:noindex
X-PUBLISHED-TTL:PT1H
BEGIN:VTIMEZONE
TZID:America/New_York
BEGIN:DAYLIGHT
TZOFFSETFROM:-0500
TZOFFSETTO:-0400
TZNAME:EDT
DTSTART:20210314T070000
END:DAYLIGHT
BEGIN:STANDARD
TZOFFSETFROM:-0400
TZOFFSETTO:-0500
TZNAME:EST
DTSTART:20211107T060000
END:STANDARD
BEGIN:DAYLIGHT
TZOFFSETFROM:-0500
TZOFFSETTO:-0400
TZNAME:EDT
DTSTART:20220313T070000
END:DAYLIGHT
BEGIN:STANDARD
TZOFFSETFROM:-0400
TZOFFSETTO:-0500
TZNAME:EST
DTSTART:20221106T060000
END:STANDARD
BEGIN:DAYLIGHT
TZOFFSETFROM:-0500
TZOFFSETTO:-0400
TZNAME:EDT
DTSTART:20230312T070000
END:DAYLIGHT
BEGIN:STANDARD
TZOFFSETFROM:-0400
TZOFFSETTO:-0500
TZNAME:EST
DTSTART:20231105T060000
END:STANDARD
END:VTIMEZONE
BEGIN:VEVENT
DTSTART;TZID=America/New_York:20221211T110000
DTEND;TZID=America/New_York:20221211T140000
DTSTAMP:20260423T141823
CREATED:20221128T183659Z
LAST-MODIFIED:20221128T191557Z
UID:10974-1670756400-1670767200@bleedingdisordersfl.org
SUMMARY:Jacksonville Holiday Event
DESCRIPTION:Nemours Children’s Clinic\, Jacksonville\n&\nThe Hemophilia Foundation\nof Greater Florida\n\n-for a very special family ho-ho-ho-holiday event-\n\n\n\nSunday December 11\, 2022\n11:00 am\nAt the\nHyatt Regency\nJacksonville Riverfront\n225 East Coast Line Drive\,\nJacksonville\, FL 32202\n\nThe day includes:\nHo-Ho-Ho-Holiday Fun\, Trivia\, Brunch &\na very Special Guest in a red coat\n\n\n\n\nRSVP December 9\, 2022\ninfo@bleedingdisordersfl.org\n800-293-6527
URL:https://bleedingdisordersfl.org/event/jacksonville-holiday-event-2/
LOCATION:Hyatt Regency Jacksonville Riverfront\, 225 East Coast Line Drive\, Jacksonville\, FL\, 32202\, United States
END:VEVENT
END:VCALENDAR