BEGIN:VCALENDAR
VERSION:2.0
PRODID:-//Bleeding Disorders Foundation of Florida - ECPv6.15.20//NONSGML v1.0//EN
CALSCALE:GREGORIAN
METHOD:PUBLISH
X-ORIGINAL-URL:https://bleedingdisordersfl.org
X-WR-CALDESC:Events for Bleeding Disorders Foundation of Florida
REFRESH-INTERVAL;VALUE=DURATION:PT1H
X-Robots-Tag:noindex
X-PUBLISHED-TTL:PT1H
BEGIN:VTIMEZONE
TZID:America/New_York
BEGIN:DAYLIGHT
TZOFFSETFROM:-0500
TZOFFSETTO:-0400
TZNAME:EDT
DTSTART:20210314T070000
END:DAYLIGHT
BEGIN:STANDARD
TZOFFSETFROM:-0400
TZOFFSETTO:-0500
TZNAME:EST
DTSTART:20211107T060000
END:STANDARD
BEGIN:DAYLIGHT
TZOFFSETFROM:-0500
TZOFFSETTO:-0400
TZNAME:EDT
DTSTART:20220313T070000
END:DAYLIGHT
BEGIN:STANDARD
TZOFFSETFROM:-0400
TZOFFSETTO:-0500
TZNAME:EST
DTSTART:20221106T060000
END:STANDARD
BEGIN:DAYLIGHT
TZOFFSETFROM:-0500
TZOFFSETTO:-0400
TZNAME:EDT
DTSTART:20230312T070000
END:DAYLIGHT
BEGIN:STANDARD
TZOFFSETFROM:-0400
TZOFFSETTO:-0500
TZNAME:EST
DTSTART:20231105T060000
END:STANDARD
END:VTIMEZONE
BEGIN:VEVENT
DTSTART;TZID=America/New_York:20220820T110000
DTEND;TZID=America/New_York:20220820T140000
DTSTAMP:20260423T205015
CREATED:20220720T213431Z
LAST-MODIFIED:20220720T213431Z
UID:10595-1660993200-1661004000@bleedingdisordersfl.org
SUMMARY:Ladies Tea Luncheon
DESCRIPTION:Join us for a Ladies Tea Luncheon \n  \nSharing the most updated information about  \nWomen and Bleeding Disorders \n  \nPresented by  \n  \nShveta Gupta\, MD \nDirector of Hemophilia and Thrombosis Center \nDirector of the Young Women with Bleeding Disorder Clinic \nHaley Center for Cancer and Blood Diseases \nArnold Palmer Hospital for Children  \n  \nSaturday\, August 20\, 2022  \n11:00 am  \n  \nHampton Room at  \nDisney’s Yacht Club Resort  \n1700 Epcot Resorts Blvd\,  \nLake Buena Vista\, FL 32830. \nRSVP by August 15\, 2022 \nEmail: info@bleedingdisordersfl.org \nPhone: 800-293-6527
URL:https://bleedingdisordersfl.org/event/ladies-tea-luncheon/
LOCATION:Disney’s Yacht & Beach Club Resorts
END:VEVENT
END:VCALENDAR