BEGIN:VCALENDAR
VERSION:2.0
PRODID:-//Bleeding Disorders Foundation of Florida - ECPv6.15.20//NONSGML v1.0//EN
CALSCALE:GREGORIAN
METHOD:PUBLISH
X-ORIGINAL-URL:https://bleedingdisordersfl.org
X-WR-CALDESC:Events for Bleeding Disorders Foundation of Florida
REFRESH-INTERVAL;VALUE=DURATION:PT1H
X-Robots-Tag:noindex
X-PUBLISHED-TTL:PT1H
BEGIN:VTIMEZONE
TZID:America/New_York
BEGIN:DAYLIGHT
TZOFFSETFROM:-0500
TZOFFSETTO:-0400
TZNAME:EDT
DTSTART:20210314T070000
END:DAYLIGHT
BEGIN:STANDARD
TZOFFSETFROM:-0400
TZOFFSETTO:-0500
TZNAME:EST
DTSTART:20211107T060000
END:STANDARD
BEGIN:DAYLIGHT
TZOFFSETFROM:-0500
TZOFFSETTO:-0400
TZNAME:EDT
DTSTART:20220313T070000
END:DAYLIGHT
BEGIN:STANDARD
TZOFFSETFROM:-0400
TZOFFSETTO:-0500
TZNAME:EST
DTSTART:20221106T060000
END:STANDARD
BEGIN:DAYLIGHT
TZOFFSETFROM:-0500
TZOFFSETTO:-0400
TZNAME:EDT
DTSTART:20230312T070000
END:DAYLIGHT
BEGIN:STANDARD
TZOFFSETFROM:-0400
TZOFFSETTO:-0500
TZNAME:EST
DTSTART:20231105T060000
END:STANDARD
END:VTIMEZONE
BEGIN:VEVENT
DTSTART;TZID=America/New_York:20220504T183000
DTEND;TZID=America/New_York:20220504T203000
DTSTAMP:20260424T010732
CREATED:20220427T214817Z
LAST-MODIFIED:20220427T214817Z
UID:10401-1651689000-1651696200@bleedingdisordersfl.org
SUMMARY:Fireside Chat Dinner
DESCRIPTION:You’re invited to a \nfireside chat and dinner with \nPresenters \nCristie Vidal-Strub\, ARNP\, MSN \n& Clinical Educator \n& \nJulia\, Guest Ambassador\n\n\n\n\n\n\n\n\n\n\n\n\n\n\n\nWednesday\, May 4\, 2022 6:30 PM \n\n\n\n\n\n\n\n\n\n\n\n\n\n\n\n\n\n\n\n\n\n\n\n\n\n\n\n\n\n\n\n3563 St. Johns Avenue\, Jacksonville\, FL 32205 \n(904) 619-2150 \n\n\n\n\n\n\n\n\n\n\n\n\n\n\n\n\nRSVP by Friday\, April 29\, 2022 \nRegister today at: \ninfo@bleedingdisordersfl.org or 800.293.6527 \n\n\n\n\n\n\n\n\n\n\n\n\n\n\n\n\nSponsored by
URL:https://bleedingdisordersfl.org/event/fireside-chat-dinner/
LOCATION:FL
END:VEVENT
END:VCALENDAR