BEGIN:VCALENDAR
VERSION:2.0
PRODID:-//Bleeding Disorders Foundation of Florida - ECPv6.15.20//NONSGML v1.0//EN
CALSCALE:GREGORIAN
METHOD:PUBLISH
X-WR-CALNAME:Bleeding Disorders Foundation of Florida
X-ORIGINAL-URL:https://bleedingdisordersfl.org
X-WR-CALDESC:Events for Bleeding Disorders Foundation of Florida
REFRESH-INTERVAL;VALUE=DURATION:PT1H
X-Robots-Tag:noindex
X-PUBLISHED-TTL:PT1H
BEGIN:VTIMEZONE
TZID:America/New_York
BEGIN:DAYLIGHT
TZOFFSETFROM:-0500
TZOFFSETTO:-0400
TZNAME:EDT
DTSTART:20210314T070000
END:DAYLIGHT
BEGIN:STANDARD
TZOFFSETFROM:-0400
TZOFFSETTO:-0500
TZNAME:EST
DTSTART:20211107T060000
END:STANDARD
BEGIN:DAYLIGHT
TZOFFSETFROM:-0500
TZOFFSETTO:-0400
TZNAME:EDT
DTSTART:20220313T070000
END:DAYLIGHT
BEGIN:STANDARD
TZOFFSETFROM:-0400
TZOFFSETTO:-0500
TZNAME:EST
DTSTART:20221106T060000
END:STANDARD
BEGIN:DAYLIGHT
TZOFFSETFROM:-0500
TZOFFSETTO:-0400
TZNAME:EDT
DTSTART:20230312T070000
END:DAYLIGHT
BEGIN:STANDARD
TZOFFSETFROM:-0400
TZOFFSETTO:-0500
TZNAME:EST
DTSTART:20231105T060000
END:STANDARD
END:VTIMEZONE
BEGIN:VEVENT
DTSTART;TZID=America/New_York:20220423T000000
DTEND;TZID=America/New_York:20220424T233000
DTSTAMP:20260424T022917
CREATED:20220421T194351Z
LAST-MODIFIED:20220421T194351Z
UID:10380-1650672000-1650843000@bleedingdisordersfl.org
SUMMARY:Kendra Scott
DESCRIPTION:
URL:https://bleedingdisordersfl.org/event/kendra-scott/
LOCATION:FL
END:VEVENT
BEGIN:VEVENT
DTSTART;TZID=America/New_York:20220424T150000
DTEND;TZID=America/New_York:20220424T180000
DTSTAMP:20260424T022917
CREATED:20220404T175812Z
LAST-MODIFIED:20220404T175812Z
UID:10324-1650812400-1650823200@bleedingdisordersfl.org
SUMMARY:World Hemophilia Day Celebration
DESCRIPTION:Celebrate World Hemophilia Day 2022 \nOne Family\, an immersive experience on joint health \nSunday\, April 24\, 2022 \n3:00- 6:00 pm \nCastle Hotel Orlando \n8602 Universal Blvd \nOrlando\, Florida 32819 \nFOOD and FUN
URL:https://bleedingdisordersfl.org/event/world-hemophilia-day-celebration/
LOCATION:Castle Hotel Orlando\, 8602 Univeral Blvd\, Orlando\, FL\, 32819\, United States
END:VEVENT
END:VCALENDAR