BEGIN:VCALENDAR
VERSION:2.0
PRODID:-//Bleeding Disorders Foundation of Florida - ECPv6.15.20//NONSGML v1.0//EN
CALSCALE:GREGORIAN
METHOD:PUBLISH
X-WR-CALNAME:Bleeding Disorders Foundation of Florida
X-ORIGINAL-URL:https://bleedingdisordersfl.org
X-WR-CALDESC:Events for Bleeding Disorders Foundation of Florida
REFRESH-INTERVAL;VALUE=DURATION:PT1H
X-Robots-Tag:noindex
X-PUBLISHED-TTL:PT1H
BEGIN:VTIMEZONE
TZID:America/New_York
BEGIN:DAYLIGHT
TZOFFSETFROM:-0500
TZOFFSETTO:-0400
TZNAME:EDT
DTSTART:20210314T070000
END:DAYLIGHT
BEGIN:STANDARD
TZOFFSETFROM:-0400
TZOFFSETTO:-0500
TZNAME:EST
DTSTART:20211107T060000
END:STANDARD
BEGIN:DAYLIGHT
TZOFFSETFROM:-0500
TZOFFSETTO:-0400
TZNAME:EDT
DTSTART:20220313T070000
END:DAYLIGHT
BEGIN:STANDARD
TZOFFSETFROM:-0400
TZOFFSETTO:-0500
TZNAME:EST
DTSTART:20221106T060000
END:STANDARD
BEGIN:DAYLIGHT
TZOFFSETFROM:-0500
TZOFFSETTO:-0400
TZNAME:EDT
DTSTART:20230312T070000
END:DAYLIGHT
BEGIN:STANDARD
TZOFFSETFROM:-0400
TZOFFSETTO:-0500
TZNAME:EST
DTSTART:20231105T060000
END:STANDARD
END:VTIMEZONE
BEGIN:VEVENT
DTSTART;TZID=America/New_York:20220218T180000
DTEND;TZID=America/New_York:20220218T203000
DTSTAMP:20260424T051335
CREATED:20220127T200020Z
LAST-MODIFIED:20220127T200020Z
UID:10050-1645207200-1645216200@bleedingdisordersfl.org
SUMMARY:Gettin' in the Game of Life
DESCRIPTION:The Arnold Palmer Pediatric Bleeding Disorders Foundation of Florida invite you to a fun-filled family program and dinner. “Believing in Yourself: Gettin’ in the Game of Life” featuring Pro Golfer\, Perry Parker. Perry will be handing out golf tips & pointers. 6:00 pm to 8:30 pm at TopGolf Orlando. 9295 Universal Blvd.\, Orlando\, FL 32819. RSVP by: February 14\, 2022. Sponsored by: CSL Behring
URL:https://bleedingdisordersfl.org/event/gettin-in-the-game-of-life/
LOCATION:TopGolf Orlando\, 9295 Universal Blvd.\, Orlando\, Florida\, 32819
END:VEVENT
END:VCALENDAR