BEGIN:VCALENDAR
VERSION:2.0
PRODID:-//Bleeding Disorders Foundation of Florida - ECPv6.15.20//NONSGML v1.0//EN
CALSCALE:GREGORIAN
METHOD:PUBLISH
X-WR-CALNAME:Bleeding Disorders Foundation of Florida
X-ORIGINAL-URL:https://bleedingdisordersfl.org
X-WR-CALDESC:Events for Bleeding Disorders Foundation of Florida
REFRESH-INTERVAL;VALUE=DURATION:PT1H
X-Robots-Tag:noindex
X-PUBLISHED-TTL:PT1H
BEGIN:VTIMEZONE
TZID:America/New_York
BEGIN:DAYLIGHT
TZOFFSETFROM:-0500
TZOFFSETTO:-0400
TZNAME:EDT
DTSTART:20200308T070000
END:DAYLIGHT
BEGIN:STANDARD
TZOFFSETFROM:-0400
TZOFFSETTO:-0500
TZNAME:EST
DTSTART:20201101T060000
END:STANDARD
BEGIN:DAYLIGHT
TZOFFSETFROM:-0500
TZOFFSETTO:-0400
TZNAME:EDT
DTSTART:20210314T070000
END:DAYLIGHT
BEGIN:STANDARD
TZOFFSETFROM:-0400
TZOFFSETTO:-0500
TZNAME:EST
DTSTART:20211107T060000
END:STANDARD
BEGIN:DAYLIGHT
TZOFFSETFROM:-0500
TZOFFSETTO:-0400
TZNAME:EDT
DTSTART:20220313T070000
END:DAYLIGHT
BEGIN:STANDARD
TZOFFSETFROM:-0400
TZOFFSETTO:-0500
TZNAME:EST
DTSTART:20221106T060000
END:STANDARD
END:VTIMEZONE
BEGIN:VEVENT
DTSTART;TZID=America/New_York:20211219T100000
DTEND;TZID=America/New_York:20211219T120000
DTSTAMP:20260424T082324
CREATED:20211201T230253Z
LAST-MODIFIED:20211201T230253Z
UID:9760-1639908000-1639915200@bleedingdisordersfl.org
SUMMARY:Jacksonville Holiday Party
DESCRIPTION:Please Join Nemours Children’s Clinic\, Jacksonville\n                      &\nThe Bleeding Disorders Foundation of Florida  \n-for a very special family holiday event- \nSunday\, December 19\, 2021\n10:00 am\nAt the\nHyatt Regency\nJacksonville Riverfront\n225 East Coast Line Drive\,\nJacksonville\, FL 32202 \nThe day includes:\nTrivia\, Brunch & enjoy\nthe Football Game of the Season \nJacksonville Jaguars vs. Houston Texans \nWe have a limited number of Football Tickets \nRSVP December 10\, 2021\ninfo@bleedingdisordersfl.org\n800-293-6527 \nVisit our website\nDonate here
URL:https://bleedingdisordersfl.org/event/jacksonville-holiday-party-2/
LOCATION:Hyatt Regency Jacksonville Riverfront\, 225 East Coast Line Drive\, Jacksonville\, FL\, 32202\, United States
END:VEVENT
END:VCALENDAR