BEGIN:VCALENDAR
VERSION:2.0
PRODID:-//Bleeding Disorders Foundation of Florida - ECPv6.15.20//NONSGML v1.0//EN
CALSCALE:GREGORIAN
METHOD:PUBLISH
X-ORIGINAL-URL:https://bleedingdisordersfl.org
X-WR-CALDESC:Events for Bleeding Disorders Foundation of Florida
REFRESH-INTERVAL;VALUE=DURATION:PT1H
X-Robots-Tag:noindex
X-PUBLISHED-TTL:PT1H
BEGIN:VTIMEZONE
TZID:America/New_York
BEGIN:DAYLIGHT
TZOFFSETFROM:-0500
TZOFFSETTO:-0400
TZNAME:EDT
DTSTART:20200308T070000
END:DAYLIGHT
BEGIN:STANDARD
TZOFFSETFROM:-0400
TZOFFSETTO:-0500
TZNAME:EST
DTSTART:20201101T060000
END:STANDARD
BEGIN:DAYLIGHT
TZOFFSETFROM:-0500
TZOFFSETTO:-0400
TZNAME:EDT
DTSTART:20210314T070000
END:DAYLIGHT
BEGIN:STANDARD
TZOFFSETFROM:-0400
TZOFFSETTO:-0500
TZNAME:EST
DTSTART:20211107T060000
END:STANDARD
BEGIN:DAYLIGHT
TZOFFSETFROM:-0500
TZOFFSETTO:-0400
TZNAME:EDT
DTSTART:20220313T070000
END:DAYLIGHT
BEGIN:STANDARD
TZOFFSETFROM:-0400
TZOFFSETTO:-0500
TZNAME:EST
DTSTART:20221106T060000
END:STANDARD
END:VTIMEZONE
BEGIN:VEVENT
DTSTART;TZID=America/New_York:20211204T110000
DTEND;TZID=America/New_York:20211204T133000
DTSTAMP:20260424T094419
CREATED:20211130T232850Z
LAST-MODIFIED:20211130T232850Z
UID:9748-1638615600-1638624600@bleedingdisordersfl.org
SUMMARY:Teen/Family Retreat
DESCRIPTION:Join us for our\n﻿2nd Annual Youth Retreat\nFor teens: 13-19 years old\nYou Can Invite your FAMILY to attend\n﻿\nSaturday\, December 4\, 2021\, 11:00 am\nThe day includes: \nWonderful lunch and information on how to be a great advocate for the bleeding disorder community. After the program…enjoy your afternoon at the Zoo Tampa. \nZooTampa at Lowry Park\n1101 W. Sligh Ave\,\nTampa\, FL 33604
URL:https://bleedingdisordersfl.org/event/teen-family-retreat/
LOCATION:Zoo Tampa\, 1101 W. Sligh Ave\, Tampa\, FL\, 33612\, United States
END:VEVENT
END:VCALENDAR