BEGIN:VCALENDAR
VERSION:2.0
PRODID:-//Bleeding Disorders Foundation of Florida - ECPv6.15.20//NONSGML v1.0//EN
CALSCALE:GREGORIAN
METHOD:PUBLISH
X-ORIGINAL-URL:https://bleedingdisordersfl.org
X-WR-CALDESC:Events for Bleeding Disorders Foundation of Florida
REFRESH-INTERVAL;VALUE=DURATION:PT1H
X-Robots-Tag:noindex
X-PUBLISHED-TTL:PT1H
BEGIN:VTIMEZONE
TZID:America/New_York
BEGIN:DAYLIGHT
TZOFFSETFROM:-0500
TZOFFSETTO:-0400
TZNAME:EDT
DTSTART:20200308T070000
END:DAYLIGHT
BEGIN:STANDARD
TZOFFSETFROM:-0400
TZOFFSETTO:-0500
TZNAME:EST
DTSTART:20201101T060000
END:STANDARD
BEGIN:DAYLIGHT
TZOFFSETFROM:-0500
TZOFFSETTO:-0400
TZNAME:EDT
DTSTART:20210314T070000
END:DAYLIGHT
BEGIN:STANDARD
TZOFFSETFROM:-0400
TZOFFSETTO:-0500
TZNAME:EST
DTSTART:20211107T060000
END:STANDARD
BEGIN:DAYLIGHT
TZOFFSETFROM:-0500
TZOFFSETTO:-0400
TZNAME:EDT
DTSTART:20220313T070000
END:DAYLIGHT
BEGIN:STANDARD
TZOFFSETFROM:-0400
TZOFFSETTO:-0500
TZNAME:EST
DTSTART:20221106T060000
END:STANDARD
END:VTIMEZONE
BEGIN:VEVENT
DTSTART;TZID=America/New_York:20211013T180000
DTEND;TZID=America/New_York:20211013T200000
DTSTAMP:20260424T111907
CREATED:20210928T192211Z
LAST-MODIFIED:20210928T192211Z
UID:9434-1634148000-1634155200@bleedingdisordersfl.org
SUMMARY:Pain in Bleeding Disorders
DESCRIPTION:Pain in Bleeding Disorders \nDinner Program \nPresented by \nBarbie Arrebola\nHematology Community Consultant \nOctober 13\, 2021 \n6:00 pm \nMaggiano’s Little Italy\n9101 International Dr.\nOrlando\, FL 32819 \n407-241-8650
URL:https://bleedingdisordersfl.org/event/pain-in-bleeding-disorders/
LOCATION:FL
END:VEVENT
END:VCALENDAR