BEGIN:VCALENDAR
VERSION:2.0
PRODID:-//Bleeding Disorders Foundation of Florida - ECPv6.15.20//NONSGML v1.0//EN
CALSCALE:GREGORIAN
METHOD:PUBLISH
X-WR-CALNAME:Bleeding Disorders Foundation of Florida
X-ORIGINAL-URL:https://bleedingdisordersfl.org
X-WR-CALDESC:Events for Bleeding Disorders Foundation of Florida
REFRESH-INTERVAL;VALUE=DURATION:PT1H
X-Robots-Tag:noindex
X-PUBLISHED-TTL:PT1H
BEGIN:VTIMEZONE
TZID:America/New_York
BEGIN:DAYLIGHT
TZOFFSETFROM:-0500
TZOFFSETTO:-0400
TZNAME:EDT
DTSTART:20200308T070000
END:DAYLIGHT
BEGIN:STANDARD
TZOFFSETFROM:-0400
TZOFFSETTO:-0500
TZNAME:EST
DTSTART:20201101T060000
END:STANDARD
BEGIN:DAYLIGHT
TZOFFSETFROM:-0500
TZOFFSETTO:-0400
TZNAME:EDT
DTSTART:20210314T070000
END:DAYLIGHT
BEGIN:STANDARD
TZOFFSETFROM:-0400
TZOFFSETTO:-0500
TZNAME:EST
DTSTART:20211107T060000
END:STANDARD
BEGIN:DAYLIGHT
TZOFFSETFROM:-0500
TZOFFSETTO:-0400
TZNAME:EDT
DTSTART:20220313T070000
END:DAYLIGHT
BEGIN:STANDARD
TZOFFSETFROM:-0400
TZOFFSETTO:-0500
TZNAME:EST
DTSTART:20221106T060000
END:STANDARD
END:VTIMEZONE
BEGIN:VEVENT
DTSTART;VALUE=DATE:20211008
DTEND;VALUE=DATE:20211011
DTSTAMP:20260424T113427
CREATED:20210903T230916Z
LAST-MODIFIED:20210903T230916Z
UID:9366-1633651200-1633910399@bleedingdisordersfl.org
SUMMARY:Family Retreat Weekend
DESCRIPTION:Family Retreat Weekend \nOctober 8-10\, 2021 \nCamp Boggy Creek
URL:https://bleedingdisordersfl.org/event/family-retreat-weekend/
LOCATION:Camp Boggy Creek\, 30500 Brantley Branch Rd\,\, Eustis\, FL\, 32736\, United States
END:VEVENT
END:VCALENDAR