BEGIN:VCALENDAR
VERSION:2.0
PRODID:-//Bleeding Disorders Foundation of Florida - ECPv6.15.20//NONSGML v1.0//EN
CALSCALE:GREGORIAN
METHOD:PUBLISH
X-WR-CALNAME:Bleeding Disorders Foundation of Florida
X-ORIGINAL-URL:https://bleedingdisordersfl.org
X-WR-CALDESC:Events for Bleeding Disorders Foundation of Florida
REFRESH-INTERVAL;VALUE=DURATION:PT1H
X-Robots-Tag:noindex
X-PUBLISHED-TTL:PT1H
BEGIN:VTIMEZONE
TZID:America/New_York
BEGIN:DAYLIGHT
TZOFFSETFROM:-0500
TZOFFSETTO:-0400
TZNAME:EDT
DTSTART:20200308T070000
END:DAYLIGHT
BEGIN:STANDARD
TZOFFSETFROM:-0400
TZOFFSETTO:-0500
TZNAME:EST
DTSTART:20201101T060000
END:STANDARD
BEGIN:DAYLIGHT
TZOFFSETFROM:-0500
TZOFFSETTO:-0400
TZNAME:EDT
DTSTART:20210314T070000
END:DAYLIGHT
BEGIN:STANDARD
TZOFFSETFROM:-0400
TZOFFSETTO:-0500
TZNAME:EST
DTSTART:20211107T060000
END:STANDARD
BEGIN:DAYLIGHT
TZOFFSETFROM:-0500
TZOFFSETTO:-0400
TZNAME:EDT
DTSTART:20220313T070000
END:DAYLIGHT
BEGIN:STANDARD
TZOFFSETFROM:-0400
TZOFFSETTO:-0500
TZNAME:EST
DTSTART:20221106T060000
END:STANDARD
END:VTIMEZONE
BEGIN:VEVENT
DTSTART;TZID=America/New_York:20210721T190000
DTEND;TZID=America/New_York:20210721T200000
DTSTAMP:20260424T160746
CREATED:20210702T194912Z
LAST-MODIFIED:20210702T195127Z
UID:8868-1626894000-1626897600@bleedingdisordersfl.org
SUMMARY:VIRTUAL WALK KICK OFF EVENT/ MUSIC TRIVIA NIGHT!
DESCRIPTION:VIRTUAL WALK KICK-OFF EVENT \n\nLET’S GATHER TOGETHER VIRTUALLY \nFOR A \nFUN ZOOM MUSIC TRIVIA NIGHT!\n(THE WALKS ARE IN PERSON) \n\nJULY 21\, 2021 AT 7:00 PM\n\nREGISTER YOUR TEAM BY THE TRIVIA KICK-OFF EVENT AND \nYOU WILL BE ENTERED IN A RAFFLE FOR A PIZZA PARTY PRIZE! (VALUED AT $150)  \n\nREGISTER HERE 
URL:https://bleedingdisordersfl.org/event/8868/
LOCATION:VIrtual
END:VEVENT
END:VCALENDAR