BEGIN:VCALENDAR
VERSION:2.0
PRODID:-//Bleeding Disorders Foundation of Florida - ECPv6.15.20//NONSGML v1.0//EN
CALSCALE:GREGORIAN
METHOD:PUBLISH
X-WR-CALNAME:Bleeding Disorders Foundation of Florida
X-ORIGINAL-URL:https://bleedingdisordersfl.org
X-WR-CALDESC:Events for Bleeding Disorders Foundation of Florida
REFRESH-INTERVAL;VALUE=DURATION:PT1H
X-Robots-Tag:noindex
X-PUBLISHED-TTL:PT1H
BEGIN:VTIMEZONE
TZID:UTC
BEGIN:STANDARD
TZOFFSETFROM:+0000
TZOFFSETTO:+0000
TZNAME:UTC
DTSTART:20190101T000000
END:STANDARD
END:VTIMEZONE
BEGIN:VEVENT
DTSTART;TZID=UTC:20200625T183000
DTEND;TZID=UTC:20200625T200000
DTSTAMP:20260425T102834
CREATED:20200618T220322Z
LAST-MODIFIED:20200618T220322Z
UID:7455-1593109800-1593115200@bleedingdisordersfl.org
SUMMARY:Sports\, Drugs & Rock N' Roll
DESCRIPTION:Mikey Berkman received a scholarship from BDFF and plays lacrosse at Syracuse.  Listen to his story and how his experiences as a severe hemophilia playing college sports. \nPlease RSVP by June 24\, 2020\nEmail: info@bleedingdisordersfl.org\nPhone: 800-293-6527 \nOnce you we have your RSVP you will be sent the instructions on how to login the day of \nWEBINAR WAIVER AND DISCLOSURE\nBy RSVPing to this event you hereby grant the Bleeding Disorders Foundation of Florida (BDFF) permission to use your likeness in a photograph\, video\, or other digital media (“photo”) in any and all of its publications\, including web-based publications\, without payment or other consideration. This session is not being recorded. To be in compliance\, we ask people working for industry attending this online program to disclose their position and the company they work for one time at the beginning of the session. You are not obligated to share any personal information.   BDFF recommends using your first initial instead of your full name when signing on. \nBrought to you by CSL Behring
URL:https://bleedingdisordersfl.org/event/sports-drugs-rock-n-roll/
CATEGORIES:Programs
END:VEVENT
END:VCALENDAR