BEGIN:VCALENDAR
VERSION:2.0
PRODID:-//Bleeding Disorders Foundation of Florida - ECPv6.15.20//NONSGML v1.0//EN
CALSCALE:GREGORIAN
METHOD:PUBLISH
X-WR-CALNAME:Bleeding Disorders Foundation of Florida
X-ORIGINAL-URL:https://bleedingdisordersfl.org
X-WR-CALDESC:Events for Bleeding Disorders Foundation of Florida
REFRESH-INTERVAL;VALUE=DURATION:PT1H
X-Robots-Tag:noindex
X-PUBLISHED-TTL:PT1H
BEGIN:VTIMEZONE
TZID:UTC
BEGIN:STANDARD
TZOFFSETFROM:+0000
TZOFFSETTO:+0000
TZNAME:UTC
DTSTART:20190101T000000
END:STANDARD
END:VTIMEZONE
BEGIN:VEVENT
DTSTART;VALUE=DATE:20200123
DTEND;VALUE=DATE:20200501
DTSTAMP:20260425T134806
CREATED:20200124T003806Z
LAST-MODIFIED:20200124T003913Z
UID:6967-1579737600-1588291199@bleedingdisordersfl.org
SUMMARY:BDFF CALVIN DAWSON MEMORIAL SCHOLARSHIP APPLICATIONS OPEN
DESCRIPTION:Amount: Number and amount of scholarships varies \nCandidate: Florida residents with bleeding disorders attending a college\, university or trade school. \nDeadline: April 30\, 2020 \nContact: Bleeding Disorders Foundation of Florida 1350 Orange Ave\, Suite 227 Winter Park FL 32789\n(800)293-6527\n(407)629-0000\nFax: (407) 629-9600 \n\nClick here for the 2020 scholarship application.
URL:https://bleedingdisordersfl.org/event/hfgf-calvin-dawson-memorial-scholarship-applications-open/
CATEGORIES:Programs,Scholarships
END:VEVENT
BEGIN:VEVENT
DTSTART;TZID=UTC:20200421T190000
DTEND;TZID=UTC:20200421T200000
DTSTAMP:20260425T134806
CREATED:20200403T002136Z
LAST-MODIFIED:20200403T221939Z
UID:7239-1587495600-1587499200@bleedingdisordersfl.org
SUMMARY:BDFF Webinar: Emergency Preparation With a Bleeding Disorder
DESCRIPTION:So many families need preparation for a Hemophilia emergency! This presentation will assist families with helpful tips! \nWhat to expect at ER\nPrep for emergencies\nPrep for travel\nAdvocating\nMedical ID / medic alert\nPicking an ER\nYour Go Bag\nYour Emergency Plan\nWhen to go to the ER\nWhat happens when you get to the ER\nCommunicating with Providers\nPatient Rights \nThere will be time for questions and answers. \nPresented by Bayer nurse\, Linda Peacock \nRSVP to info@bleedingdisordersfl.org and you will receive login information. \nBrought to you by Bayer
URL:https://bleedingdisordersfl.org/event/hfgf-webinar-emergency-preparation-with-a-bleeding-disorder/
CATEGORIES:Webinar
END:VEVENT
END:VCALENDAR