BEGIN:VCALENDAR
VERSION:2.0
PRODID:-//Bleeding Disorders Foundation of Florida - ECPv6.15.20//NONSGML v1.0//EN
CALSCALE:GREGORIAN
METHOD:PUBLISH
X-ORIGINAL-URL:https://bleedingdisordersfl.org
X-WR-CALDESC:Events for Bleeding Disorders Foundation of Florida
REFRESH-INTERVAL;VALUE=DURATION:PT1H
X-Robots-Tag:noindex
X-PUBLISHED-TTL:PT1H
BEGIN:VTIMEZONE
TZID:UTC
BEGIN:STANDARD
TZOFFSETFROM:+0000
TZOFFSETTO:+0000
TZNAME:UTC
DTSTART:20190101T000000
END:STANDARD
END:VTIMEZONE
BEGIN:VEVENT
DTSTART;TZID=UTC:20200107T080000
DTEND;TZID=UTC:20200112T170000
DTSTAMP:20260425T195200
CREATED:20191024T184105Z
LAST-MODIFIED:20191024T184157Z
UID:6780-1578384000-1578848400@bleedingdisordersfl.org
SUMMARY:Generation IX 2020 Leadership Training
DESCRIPTION:Registration for the Generation IX 2020 Leadership Training in the Florida Keys is NOW open for all! Generation IX Leadership is an intensive\, community-building training\, where you will gain insights about yourself and your community in an encouraging learning environment. \nHere are the details: \n\n\nOpen to eligible adults 18-35 with a hemophilia b diagnosis \n\n\nDates: January 7th – 12th\, 2020 \n\n\nAirfare\, lodging\, and participation fully supported and you’ll be flying in and out of Miami and lodging in community housing at beautiful and remote Pigeon Key  \n\n\nYou can apply by clicking this link and completing an application through our CampDocs portal: app.campdoc.com/register/gutmonkey \nThe Coalition for Hemophilia B‘s Generation IX Project is designed and delivered in partnership with the team at GutMonkey\, and is solely sponsored by Aptevo. Learn more about Generation IX here: https://www.gutmonkey.com/generationixleadership
URL:https://bleedingdisordersfl.org/event/generation-ix-2020-leadership-training/
LOCATION:Pigeon Key\, Florida Keys
END:VEVENT
END:VCALENDAR