BEGIN:VCALENDAR
VERSION:2.0
PRODID:-//Bleeding Disorders Foundation of Florida - ECPv6.15.20//NONSGML v1.0//EN
CALSCALE:GREGORIAN
METHOD:PUBLISH
X-ORIGINAL-URL:https://bleedingdisordersfl.org
X-WR-CALDESC:Events for Bleeding Disorders Foundation of Florida
REFRESH-INTERVAL;VALUE=DURATION:PT1H
X-Robots-Tag:noindex
X-PUBLISHED-TTL:PT1H
BEGIN:VTIMEZONE
TZID:UTC
BEGIN:STANDARD
TZOFFSETFROM:+0000
TZOFFSETTO:+0000
TZNAME:UTC
DTSTART:20180101T000000
END:STANDARD
END:VTIMEZONE
BEGIN:VEVENT
DTSTART;TZID=UTC:20191208T110000
DTEND;TZID=UTC:20191208T130000
DTSTAMP:20260425T195159
CREATED:20191118T233934Z
LAST-MODIFIED:20191123T021734Z
UID:6818-1575802800-1575810000@bleedingdisordersfl.org
SUMMARY:Orlando Holiday Party
DESCRIPTION:Please Join\nThe Hemophilia Foundation\nof Greater Florida\n-for a very special family holiday event-\nBleeding Disorder Trivia\nA fun interactive Quiz Game Show for families of all ages\nSunday\, December 8\, 2019\n11:00 am\nAt the\nAloft Hotel\n500 S. Orange Ave\nOrlando\, Florida\nThe days includes trivia\, brunch and enjoy fun family activities\nR.S.V.P. by December 2\, 2019\n1-800-293-6527\ninfo@bleedingdisordersfl.org
URL:https://bleedingdisordersfl.org/event/orlando-holiday-party/
LOCATION:Aloft Hotel\, 500 S. Orange Ave\, Orlando\, FL\, United States
CATEGORIES:Programs
END:VEVENT
END:VCALENDAR