BEGIN:VCALENDAR
VERSION:2.0
PRODID:-//Bleeding Disorders Foundation of Florida - ECPv6.15.20//NONSGML v1.0//EN
CALSCALE:GREGORIAN
METHOD:PUBLISH
X-ORIGINAL-URL:https://bleedingdisordersfl.org
X-WR-CALDESC:Events for Bleeding Disorders Foundation of Florida
REFRESH-INTERVAL;VALUE=DURATION:PT1H
X-Robots-Tag:noindex
X-PUBLISHED-TTL:PT1H
BEGIN:VTIMEZONE
TZID:UTC
BEGIN:STANDARD
TZOFFSETFROM:+0000
TZOFFSETTO:+0000
TZNAME:UTC
DTSTART:20180101T000000
END:STANDARD
END:VTIMEZONE
BEGIN:VEVENT
DTSTART;TZID=UTC:20191207T103000
DTEND;TZID=UTC:20191207T123000
DTSTAMP:20260425T195201
CREATED:20191118T233816Z
LAST-MODIFIED:20191123T022050Z
UID:6816-1575714600-1575721800@bleedingdisordersfl.org
SUMMARY:Gainesville Holiday Party
DESCRIPTION:Please Join The\nUniversity of Florida Health/Shands Hospital\n&\nThe Hemophilia Foundation\nof Greater Florida\n-for a very special family event-\nHOLIDAY TRIVIA & FUN\nSaturday\, December 7\, 2019\n10:30 am\nAt the\nREITZ STUDENT UNION\nRoom 2355 655 Reitz Union Dr\, Gainesville\, FL 32611\nThe days includes Holiday Trivia Fun\, Food and Special Guest\, a family Celebration for all\nR.S.V.P. by December 3\, 2018\n1-800-293-6527\ninfo@bleedingdisordersfl.org
URL:https://bleedingdisordersfl.org/event/gainesville-holiday-party/
LOCATION:Reitz Student Union\, 655 Reitz Union Dr Room 2355\, Gainesville\, FL\, 32611\, United States
CATEGORIES:Programs
END:VEVENT
END:VCALENDAR